BEGIN:VCALENDAR
VERSION:2.0
PRODID:-//ChamberMaster//Event Calendar 2.0//EN
METHOD:PUBLISH
X-PUBLISHED-TTL:P3D
REFRESH-INTERVAL:P3D
CALSCALE:GREGORIAN
BEGIN:VEVENT
DTSTART:20130912T223000Z
DTEND:20130913T003000Z
X-MICROSOFT-CDO-ALLDAYEVENT:FALSE
SUMMARY:Open House - Baylor Family Medical Center at Grapevine
DESCRIPTION:Please join Baylor Family Medical Center at Grapevine for an open house\n\n	as we proudly introduce you to our new office space.\n\n	\n\n	Dr. Carlos Bazaldua\n\n	Dr. Saira Jamal\n\n	Dr. Paul Kim\n\n	\n\n	Appetizers and refreshments will be served
X-ALT-DESC;FMTTYPE=text/html:<p>\n	<span style="font-size:14px\;"><span style="font-family: arial\;">Please join Baylor Family Medical Center at Grapevine for an open house<br />\n	as we proudly introduce you to our new office space.<br />\n	<br />\n	Dr. Carlos Bazaldua<br />\n	Dr. Saira Jamal<br />\n	Dr. Paul Kim<br />\n	<br />\n	Appetizers and refreshments will be served</span></span></p>\n
LOCATION:2020 West State Highway 114\, Suite 120 Grapevine\, Texas 76051
UID:e.770.164077
SEQUENCE:3
DTSTAMP:20260421T063240Z
URL:https://business.grapevinechamber.org/events/details/open-house-baylor-family-medical-center-at-grapevine-09-12-2013-164077
END:VEVENT

END:VCALENDAR
