BEGIN:VCALENDAR
VERSION:2.0
PRODID:-//ChamberMaster//Event Calendar 2.0//EN
METHOD:PUBLISH
X-PUBLISHED-TTL:P3D
REFRESH-INTERVAL:P3D
CALSCALE:GREGORIAN
BEGIN:VEVENT
DTSTART:20130407T180000Z
DTEND:20130407T220000Z
X-MICROSOFT-CDO-ALLDAYEVENT:FALSE
SUMMARY:Open House at The Vineyards Campground
DESCRIPTION:The Vineyards Campground & Cabins invites the public out to tour the campground\, cabins\, and register for many door prizes.  No fee for entering the park\, hot dogs\, drinks\, chips will be served throughout the event.  Door prize drawings on the hour.  Bring a neighbor and see what the National Award winning Vineyards Campground has to offer!
X-ALT-DESC;FMTTYPE=text/html:The Vineyards Campground &amp\; Cabins invites the public out to tour the campground\, cabins\, and register for many door prizes.&nbsp\; No fee for entering the park\, hot dogs\, drinks\, chips will be served throughout the event.&nbsp\; Door prize drawings on the hour.&nbsp\; Bring a neighbor and see what the National Award winning Vineyards Campground has to offer!
LOCATION:1501 N. Dooley Street\, Grapevine\, Tx 76051
UID:e.770.163388
SEQUENCE:3
DTSTAMP:20260421T161643Z
URL:https://business.grapevinechamber.org/events/details/open-house-at-the-vineyards-campground-04-07-2013-163388
END:VEVENT

END:VCALENDAR
