BEGIN:VCALENDAR
VERSION:2.0
PRODID:-//ChamberMaster//Event Calendar 2.0//EN
METHOD:PUBLISH
X-PUBLISHED-TTL:P3D
REFRESH-INTERVAL:P3D
CALSCALE:GREGORIAN
BEGIN:VEVENT
DTSTART:20120809T133000Z
DTEND:20120809T150000Z
X-MICROSOFT-CDO-ALLDAYEVENT:FALSE
SUMMARY:Occupational Therapy Camp: Back to School Readiness
DESCRIPTION:Ready\, Set\, Go: Back to School Readiness Camp\n\nAugust 7th & 9th   August 14th & 16th   8:30-10:00 - Ages 7-9   11:00-12:30 - Ages 10-14\n\nCost: $40 per session\n\nLight snack will be provided   Art Camp is offered as an extension from 12:00   1:00   Sessions will be run by\n\nqualified therapists including OTs\, SLPs\, & Counselor   Minimum of 5 students in each session\n\n  Sessions will focus on self-regulation techniques and preparing for the changes in routines that come when\n\nchildren go back to school. Social skills training will be incorporated in the sessions to help address adult and\n\npeer expectations in a school setting.
X-ALT-DESC;FMTTYPE=text/html:Ready\, Set\, Go: Back to School Readiness Camp<br />\nAugust 7th &amp\; 9th &bull\; August 14th &amp\; 16th &bull\; 8:30-10:00 - Ages 7-9 &bull\; 11:00-12:30 - Ages 10-14<br />\nCost: $40 per session<br />\nLight snack will be provided &bull\; Art Camp is offered as an extension from 12:00 &ndash\; 1:00 &bull\; Sessions will be run by<br />\nqualified therapists including OTs\, SLPs\, &amp\; Counselor &bull\; Minimum of 5 students in each session<br />\n&bull\; Sessions will focus on self-regulation techniques and preparing for the changes in routines that come when<br />\nchildren go back to school. Social skills training will be incorporated in the sessions to help address adult and<br />\npeer expectations in a school setting.
LOCATION:PediaPlex - 2425 E. Southlake Blvd.\, Southlake\, TX 76092
UID:e.770.162836
SEQUENCE:3
DTSTAMP:20260422T080045Z
URL:https://business.grapevinechamber.org/events/details/occupational-therapy-camp-back-to-school-readiness-08-09-2012-162836
END:VEVENT

END:VCALENDAR
