BEGIN:VCALENDAR
VERSION:2.0
PRODID:-//ChamberMaster//Event Calendar 2.0//EN
METHOD:PUBLISH
X-PUBLISHED-TTL:P3D
REFRESH-INTERVAL:P3D
CALSCALE:GREGORIAN
BEGIN:VEVENT
DTSTART;VALUE=DATE:20130412
DTEND;VALUE=DATE:20130413
TRANSP:TRANSPARENT
X-MICROSOFT-CDO-ALLDAYEVENT:TRUE
SUMMARY:O'Reilly Auto Parts 300 NASCAR Nationwide Series Race
DESCRIPTION:Come see your favorite NASCAR Nationwide Series drivers compete in the first night race of the season at Texas Motor Speedway!
X-ALT-DESC;FMTTYPE=text/html:Come see your favorite NASCAR Nationwide Series drivers compete in the first night race of the season at Texas Motor Speedway!&nbsp\;
LOCATION:Texas Motor Speedway
UID:e.770.163446
SEQUENCE:3
DTSTAMP:20260421T162101Z
URL:https://business.grapevinechamber.org/events/details/o-reilly-auto-parts-300-nascar-nationwide-series-race-04-12-2013-163446
END:VEVENT

END:VCALENDAR
