BEGIN:VCALENDAR
VERSION:2.0
PRODID:-//ChamberMaster//Event Calendar 2.0//EN
METHOD:PUBLISH
X-PUBLISHED-TTL:P3D
REFRESH-INTERVAL:P3D
CALSCALE:GREGORIAN
BEGIN:VEVENT
DTSTART:20130215T143000Z
DTEND:20130215T193000Z
X-MICROSOFT-CDO-ALLDAYEVENT:FALSE
SUMMARY:Northeast Tarrant Transportation Summit
DESCRIPTION:To register for this event\, click the "Register Online" above.\n\n	\n\n	Workshops will include:\n\n	\n		TEX Rail/Cotton Belt Rail Line\, a 67 mile regional rail line connecting Tarrant\, Dallas\, Collin and Rockwall counties. Fort Worth Councilman\, Jungus Jordan presenting.\n	\n		Transit Oriented Development - A discussion concerning development opportunities and issues effecting development at or near major transportation hubs.\n	\n		The ABC's of the RTC (Regional Transportation Council). The process of Regional Transportation Planning for the North Central Texas Area. Michael Morris presenting.
X-ALT-DESC;FMTTYPE=text/html:<p>\n	To register for this event\, click the &quot\;Register Online&quot\; above.<br />\n	<br />\n	Workshops will include:</p>\n<ul>\n	<li>\n		TEX Rail/Cotton Belt Rail Line\, a 67 mile regional rail line connecting Tarrant\, Dallas\, Collin and Rockwall counties. Fort Worth Councilman\, Jungus Jordan presenting.</li>\n	<li>\n		Transit Oriented Development - A discussion concerning development opportunities and issues effecting development at or near major transportation hubs.</li>\n	<li>\n		The ABC&#39\;s of the RTC (Regional Transportation Council). The process of Regional Transportation Planning for the North Central Texas Area. Michael Morris presenting.</li>\n</ul>\n
LOCATION:Hurst Conference Center 1600 Campus Dr. Hurst\, TX 76054
UID:e.770.163317
SEQUENCE:3
DTSTAMP:20260421T192142Z
URL:https://business.grapevinechamber.org/events/details/northeast-tarrant-transportation-summit-02-15-2013-163317
END:VEVENT

END:VCALENDAR
