BEGIN:VCALENDAR
VERSION:2.0
PRODID:-//ChamberMaster//Event Calendar 2.0//EN
METHOD:PUBLISH
X-PUBLISHED-TTL:P3D
REFRESH-INTERVAL:P3D
CALSCALE:GREGORIAN
BEGIN:VEVENT
DTSTART:20121013T223000Z
DTEND:20121014T030000Z
X-MICROSOFT-CDO-ALLDAYEVENT:FALSE
SUMMARY:Ninth Annual GRACE Gala
DESCRIPTION:The Ninth Annual GRACE Gala - "Angels Among Us" - is going to be the best one yet! Come and enjoy our Gala that has been called\, "The Premier Event in Northeast Tarrant County". With another sell-out expected\, buy your tickets and tables soon! You don't want to miss out on an amazing evening of dinner\, silent and live auctions and dancing. More importantly\, all proceeds go towards GRACE to help more than 19\,000 individuals each year!\n\n\n\nSponsorships Available\, Volunteers Needed\, and Donations Now Being Accepted!
X-ALT-DESC;FMTTYPE=text/html:<em>The Ninth Annual GRACE Gala - &quot\;Angels Among Us&quot\; - is going to be the best one yet! Come and enjoy our Gala that has been called\, &ldquo\;The Premier Event in Northeast Tarrant County&rdquo\;. With another sell-out expected\, buy your tickets and tables soon! You don&rsquo\;t want to miss out on an amazing evening of dinner\, silent and live auctions and dancing. More importantly\, all proceeds go towards GRACE to help more than 19\,000 individuals each year!</em><br />\n<br />\n<strong>Sponsorships Available\, Volunteers Needed\, and Donations Now Being Accepted!</strong><br />\n
LOCATION:Irving Convention Center at Las Colinas
UID:e.770.162993
SEQUENCE:3
DTSTAMP:20260422T110432Z
URL:https://business.grapevinechamber.org/events/details/ninth-annual-grace-gala-10-13-2012-162993
END:VEVENT

END:VCALENDAR
