BEGIN:VCALENDAR
VERSION:2.0
PRODID:-//ChamberMaster//Event Calendar 2.0//EN
METHOD:PUBLISH
X-PUBLISHED-TTL:P3D
REFRESH-INTERVAL:P3D
CALSCALE:GREGORIAN
BEGIN:VEVENT
DTSTART:20121205T141500Z
DTEND:20121205T151500Z
X-MICROSOFT-CDO-ALLDAYEVENT:FALSE
SUMMARY:New Member Breakfast
DESCRIPTION:An opportunity for a new businesses to introduce themselves to the Chamber\, network with new and current members\, and receive an overview of the mission and goals of the organization\, as well as learn about opportunites to get involved.
X-ALT-DESC;FMTTYPE=text/html:An opportunity for a new businesses to introduce themselves to the Chamber\, network with new and current members\, and receive an overview of the mission and goals of the organization\, as well as learn about opportunites to get involved. 
LOCATION:Hilton DFW Lakes Executive Conference Center 1800 Hwy. 26 E. Grapevine\, TX 76051
UID:e.770.163082
SEQUENCE:3
DTSTAMP:20260423T150204Z
URL:https://business.grapevinechamber.org/events/details/new-member-breakfast-12-05-2012-163082
END:VEVENT

END:VCALENDAR
