BEGIN:VCALENDAR
VERSION:2.0
PRODID:-//ChamberMaster//Event Calendar 2.0//EN
METHOD:PUBLISH
X-PUBLISHED-TTL:P3D
REFRESH-INTERVAL:P3D
CALSCALE:GREGORIAN
BEGIN:VEVENT
DTSTART:20130206T141500Z
DTEND:20130206T151500Z
X-MICROSOFT-CDO-ALLDAYEVENT:FALSE
SUMMARY:New Member Breakfast
DESCRIPTION:An opportunity for a new businesses to introduce themselves to the Chamber\, network with new and current members\, and receive an overview of the mission and goals of the organization\, as well as learn about opportunites to get involved.
X-ALT-DESC;FMTTYPE=text/html:An opportunity for a new businesses to introduce themselves to the Chamber\, network with new and current members\, and receive an overview of the mission and goals of the organization\, as well as learn about opportunites to get involved. 
LOCATION:The Back Porch Grill & Tavern 210 N. Main St. Grapevine\, TX 76051
UID:e.770.163354
SEQUENCE:3
DTSTAMP:20260421T192435Z
URL:https://business.grapevinechamber.org/events/details/new-member-breakfast-02-06-2013-163354
END:VEVENT

END:VCALENDAR
