BEGIN:VCALENDAR
VERSION:2.0
PRODID:-//ChamberMaster//Event Calendar 2.0//EN
METHOD:PUBLISH
X-PUBLISHED-TTL:P3D
REFRESH-INTERVAL:P3D
CALSCALE:GREGORIAN
BEGIN:VEVENT
DTSTART:20230913T220000Z
DTEND:20230914T000000Z
X-MICROSOFT-CDO-ALLDAYEVENT:FALSE
SUMMARY:Networking Happy Hour at Grapevine Chamber of Commerce
DESCRIPTION:Networking Happy Hour at Grapevine Chamber of Commerce\n\n                                                            Small Business Owner?                                                  \n\n                             Wednesday\, September 13 | 5:00   7:00 pm                 \n\n           Meet other local small business owners and connect with experts that\n\n                                  will help you "Survive and Thryv"\n\n                         Food and Drinks provided\, Raffle tickets for Meow Wolf & Chicken & Pickle!!!\n\n                         *RSVP as seats are limited   Scan the QR code to register
X-ALT-DESC;FMTTYPE=text/html:<span style="font-size:18.6667px">&nbsp\; &nbsp\; &nbsp\; &nbsp\; &nbsp\; &nbsp\; &nbsp\; &nbsp\; &nbsp\; Networking Happy Hour at Grapevine Chamber of Commerce</span><br />\n&nbsp\;&nbsp\;&nbsp\;&nbsp\;&nbsp\;&nbsp\;&nbsp\;&nbsp\;&nbsp\;&nbsp\;&nbsp\;&nbsp\;&nbsp\;&nbsp\;&nbsp\;&nbsp\;&nbsp\;&nbsp\;&nbsp\;&nbsp\;&nbsp\;&nbsp\;&nbsp\;&nbsp\;&nbsp\;&nbsp\;&nbsp\;&nbsp\;&nbsp\;&nbsp\;&nbsp\;&nbsp\;&nbsp\;&nbsp\;&nbsp\;&nbsp\;&nbsp\;&nbsp\;&nbsp\;&nbsp\;&nbsp\;&nbsp\;&nbsp\;&nbsp\;&nbsp\;&nbsp\;&nbsp\;&nbsp\;&nbsp\;&nbsp\;&nbsp\;&nbsp\;&nbsp\;&nbsp\;&nbsp\;&nbsp\;&nbsp\;&nbsp\;&nbsp\;&nbsp\;<span style="font-size:18.6667px">Small Business Owner?</span>&nbsp\; &nbsp\; &nbsp\; &nbsp\; &nbsp\; &nbsp\; &nbsp\; &nbsp\; &nbsp\; &nbsp\; &nbsp\; &nbsp\; &nbsp\; &nbsp\; &nbsp\; &nbsp\; &nbsp\; &nbsp\; &nbsp\; &nbsp\; &nbsp\; &nbsp\; &nbsp\; &nbsp\; &nbsp\;&nbsp\;<br />\n<span style="font-size:14pt">&nbsp\; &nbsp\; &nbsp\; &nbsp\; &nbsp\; &nbsp\; &nbsp\; &nbsp\; &nbsp\; &nbsp\; &nbsp\; &nbsp\; &nbsp\; &nbsp\; &nbsp\;Wednesday\, September 13 | 5:00 &ndash\; 7:00 pm</span><span style="font-size:14pt">&nbsp\; &nbsp\; &nbsp\; &nbsp\; &nbsp\; &nbsp\; &nbsp\; &nbsp\; &nbsp\;</span><br />\n<span style="font-size:14pt">&nbsp\; &nbsp\; &nbsp\; &nbsp\; &nbsp\; &nbsp\;Meet other local small business owners and connect&nbsp\;with experts that<br />\n&nbsp\; &nbsp\; &nbsp\; &nbsp\; &nbsp\; &nbsp\; &nbsp\; &nbsp\; &nbsp\; &nbsp\; &nbsp\; &nbsp\; &nbsp\; &nbsp\; &nbsp\; &nbsp\; &nbsp\; will help you &ldquo\;Survive and&nbsp\;<strong><span style="color:rgb(237\, 125\, 49)">Thryv</span></strong></span>&rdquo\;<br />\n&nbsp\; &nbsp\; &nbsp\; &nbsp\; &nbsp\; &nbsp\; &nbsp\; &nbsp\; &nbsp\; &nbsp\; &nbsp\; &nbsp\; &nbsp\;<span style="font-size:14px">Food and Drinks provided\, Raffle tickets for <strong>Meow Wolf </strong>&amp\; <strong>Chicken &amp\; Pickle</strong>!!!</span><br />\n<span style="font-size:14pt">&nbsp\; &nbsp\; &nbsp\; &nbsp\; &nbsp\; &nbsp\; &nbsp\; &nbsp\; &nbsp\; &nbsp\; &nbsp\; &nbsp\; &nbsp\;<span style="font-size:14px">*RSVP as seats are limited &ndash\; Scan the QR code to register</span></span>
LOCATION:Grapevine Chamber of Commerce - 200 Vine St E | Grapevine\, TX 76051
UID:e.770.197526
SEQUENCE:3
DTSTAMP:20260424T202324Z
URL:https://business.grapevinechamber.org/events/details/networking-happy-hour-at-grapevine-chamber-of-commerce-197526
END:VEVENT

END:VCALENDAR
