BEGIN:VCALENDAR
VERSION:2.0
PRODID:-//ChamberMaster//Event Calendar 2.0//EN
METHOD:PUBLISH
X-PUBLISHED-TTL:P3D
REFRESH-INTERVAL:P3D
CALSCALE:GREGORIAN
BEGIN:VEVENT
DTSTART;VALUE=DATE:20250506
DTEND;VALUE=DATE:20250513
TRANSP:TRANSPARENT
X-MICROSOFT-CDO-ALLDAYEVENT:TRUE
SUMMARY:NATIONAL NURSE'S WEEK
DESCRIPTION:Rock & Brews LOVES our nurses! Bring in your favorite nurse and they receive 15% off their check!\n\n\n\nEven better - a FREE meal on May 6th!\n\n\n\n*Must show badge for discount/free meal
X-ALT-DESC;FMTTYPE=text/html:Rock &amp\; Brews LOVES our nurses! Bring in your favorite nurse and they receive 15% off their check!<br />\n<br />\nEven better - a FREE meal on May 6th!<br />\n<br />\n*Must show badge for discount/free meal
LOCATION:520 W. State Hwy Grapevine\, TX 76051
UID:e.770.201269
SEQUENCE:3
DTSTAMP:20260426T033152Z
URL:https://business.grapevinechamber.org/events/details/national-nurse-s-week-201269
END:VEVENT

END:VCALENDAR
