BEGIN:VCALENDAR
VERSION:2.0
PRODID:-//ChamberMaster//Event Calendar 2.0//EN
METHOD:PUBLISH
X-PUBLISHED-TTL:P3D
REFRESH-INTERVAL:P3D
CALSCALE:GREGORIAN
BEGIN:VEVENT
DTSTART;VALUE=DATE:20260516
DTEND;VALUE=DATE:20260517
TRANSP:TRANSPARENT
X-MICROSOFT-CDO-ALLDAYEVENT:TRUE
SUMMARY:National BBQ Day
DESCRIPTION:Join us Saturday\, May 16th\, at our Colony location for National BBQ Day! Photo opportunities\, Meet and Greet with Dallas Cowboys Defensive End - Sam Williams\, giveaways\, live music\, and more!
X-ALT-DESC;FMTTYPE=text/html:Join us Saturday\, May 16th\, at our <strong>Colony</strong> location for National BBQ Day! Photo opportunities\, Meet and Greet with Dallas Cowboys Defensive End - Sam Williams\, giveaways\, live music\, and more!&nbsp\;
LOCATION:5300 State Hwy 121\, The Colony\, Texas
UID:e.770.204608
SEQUENCE:3
DTSTAMP:20260422T135821Z
URL:https://business.grapevinechamber.org/events/details/national-bbq-day-204608
END:VEVENT

END:VCALENDAR
