BEGIN:VCALENDAR
VERSION:2.0
PRODID:-//ChamberMaster//Event Calendar 2.0//EN
METHOD:PUBLISH
X-PUBLISHED-TTL:P3D
REFRESH-INTERVAL:P3D
CALSCALE:GREGORIAN
BEGIN:VEVENT
DTSTART;VALUE=DATE:20130412
DTEND;VALUE=DATE:20130413
TRANSP:TRANSPARENT
X-MICROSOFT-CDO-ALLDAYEVENT:TRUE
SUMMARY:NASCAR Nationwide Series Race at Texas Motor Speedway
DESCRIPTION:Come see the NASCAR Nationwide series compete in the first night race of the season at Texas Motor Speedway!
X-ALT-DESC;FMTTYPE=text/html:Come see the NASCAR Nationwide series compete in the first night race of the season at Texas Motor Speedway!&nbsp\;
LOCATION:Texas Motor Speedway
UID:e.770.163444
SEQUENCE:3
DTSTAMP:20260421T161953Z
URL:https://business.grapevinechamber.org/events/details/nascar-nationwide-series-race-at-texas-motor-speedway-04-12-2013-163444
END:VEVENT

END:VCALENDAR
