BEGIN:VCALENDAR
VERSION:2.0
PRODID:-//ChamberMaster//Event Calendar 2.0//EN
METHOD:PUBLISH
X-PUBLISHED-TTL:P3D
REFRESH-INTERVAL:P3D
CALSCALE:GREGORIAN
BEGIN:VEVENT
DTSTART;VALUE=DATE:20130607
DTEND;VALUE=DATE:20130608
TRANSP:TRANSPARENT
X-MICROSOFT-CDO-ALLDAYEVENT:TRUE
SUMMARY:NASCAR Camping World Truck Series WinStar World Casino 100
DESCRIPTION:Come see the NASCAR Camping World Truck Series compete under the lights at Texas Motor Speedway in the WinStar World Casino 400!
X-ALT-DESC;FMTTYPE=text/html:Come see the NASCAR Camping World Truck Series compete under the lights at Texas Motor Speedway in the WinStar World Casino 400!
LOCATION:Texas Motor Speedway
UID:e.770.163539
SEQUENCE:3
DTSTAMP:20260420T095743Z
URL:https://business.grapevinechamber.org/events/details/nascar-camping-world-truck-series-winstar-world-casino-100-06-07-2013-163539
END:VEVENT

END:VCALENDAR
