BEGIN:VCALENDAR
VERSION:2.0
PRODID:-//ChamberMaster//Event Calendar 2.0//EN
METHOD:PUBLISH
X-PUBLISHED-TTL:P3D
REFRESH-INTERVAL:P3D
CALSCALE:GREGORIAN
BEGIN:VEVENT
DTSTART;VALUE=DATE:20130214
DTEND;VALUE=DATE:20130217
TRANSP:TRANSPARENT
X-MICROSOFT-CDO-ALLDAYEVENT:TRUE
SUMMARY:Narnia\, The Musical at Grapevine Faith Christian School
DESCRIPTION:Step through the wardrobe and into the magical world of Narnia as Grapevine Faith Christian School's Creative Arts department presents C.S. Lewis' The Lion\, the Witch and the Wardrobe: The Chronicles of Narnia\, February 14-16\, 2013 at the Grapevine Faith Creative Arts Center (729 E. Dallas Road\, Grapevine\, Texas 76051). Ticket prices range from $18-$20 and are available at www.grapevinefaith.tix.com.\n\n	Over 70 Faith students   in fourth through twelfth grade   comprise the Narnia cast. Under the direction of Mike Klefeker\, Grapevine Faith's High School Theatre teacher\, performances feature aerial acrobatics on silks\, walking trees\, stage combat\, and stirring musical numbers. Local artist Vince Craddock designed and constructed Aslan\, bringing this central character to life on stage in a manner akin to the life-sized puppets in War Horse. \n\n	Performances will be at 7 p.m. Thursday-Saturday\, as well as at 2 p.m. on Saturday. A character brunch and dinner   at 11 a.m. and 5 p.m.   are also available on Saturday as an add-on to the Narnia experience. Character dining tickets and performance tickets may be purchased at www.grapevinefaith.tix.com.
X-ALT-DESC;FMTTYPE=text/html:<p class="MsoNormal" style="margin: 0in 0in 10pt">\n	<font color="#000000"><span style="line-height: 115%\; font-size: 12pt">Step through the wardrobe and into the magical world of Narnia as Grapevine Faith Christian School&#39\;s Creative Arts department presents C.S. Lewis&#39\; </span><i style="mso-bidi-font-style: normal"><span style="line-height: 115%\; font-size: 12pt\; mso-bidi-font-family: arial\; mso-bidi-font-weight: bold">The Lion\, the Witch and the Wardrobe: The Chronicles of Narnia\,</span></i><b><span style="line-height: 115%\; font-size: 12pt\; mso-bidi-font-family: arial"> </span></b><span style="line-height: 115%\; font-size: 12pt">February 14-16\, 2013 at the Grapevine Faith Creative Arts Center (729 E. Dallas Road\, Grapevine\, Texas 76051). Ticket prices range from $18-$20 and are available at </span></font><a href="http://www.grapevinefaith.tix.com/"><span style="line-height: 115%\; color: windowtext\; font-size: 12pt">www.grapevinefaith.tix.com</span></a><span style="line-height: 115%\; font-size: 12pt"><font color="#000000">.<o:p></o:p></font></span></p>\n<p class="MsoNormal" style="margin: 0in 0in 10pt">\n	<span style="line-height: 115%\; font-size: 12pt"><font color="#000000">Over 70 Faith students &ndash\; in fourth through twelfth grade &ndash\; comprise the <i style="mso-bidi-font-style: normal">Narnia</i> cast. Under the direction of Mike Klefeker\, Grapevine Faith&rsquo\;s High School Theatre teacher\, performances feature aerial acrobatics on silks\, walking trees\, stage combat\, and stirring musical numbers. Local artist Vince Craddock designed and constructed Aslan\, bringing this central character to life on stage in a manner akin to the life-sized puppets in <i style="mso-bidi-font-style: normal">War Horse</i>. <o:p></o:p></font></span></p>\n<p class="MsoNormal" style="margin: 0in 0in 10pt">\n	<span style="line-height: 115%\; font-size: 12pt"><font color="#000000">Performances will be at 7 p.m. Thursday-Saturday\, as well as at 2 p.m. on Saturday. A character brunch and dinner &ndash\; at 11 a.m. and 5 p.m. &ndash\; are also available on Saturday as an add-on to the Narnia experience. Character dining tickets and performance tickets may be purchased at </font></span><a href="http://www.grapevinefaith.tix.com/"><span style="line-height: 115%\; color: windowtext\; font-size: 12pt">www.grapevinefaith.tix.com</span></a><span style="line-height: 115%\; font-size: 12pt"><font color="#000000">.<o:p></o:p></font></span></p>\n
LOCATION:Grapevine Faith Christian School - Creative Arts Center\, 729 E. Dallas Road\, Grapevine 76051
UID:e.770.163369
SEQUENCE:3
DTSTAMP:20260421T194255Z
URL:https://business.grapevinechamber.org/events/details/narnia-the-musical-at-grapevine-faith-christian-school-02-14-2013-163369
END:VEVENT

END:VCALENDAR
