BEGIN:VCALENDAR
VERSION:2.0
PRODID:-//ChamberMaster//Event Calendar 2.0//EN
METHOD:PUBLISH
X-PUBLISHED-TTL:P3D
REFRESH-INTERVAL:P3D
CALSCALE:GREGORIAN
BEGIN:VEVENT
DTSTART:20121009T220000Z
DTEND:20121010T000000Z
X-MICROSOFT-CDO-ALLDAYEVENT:FALSE
SUMMARY:Multi Chamber Mixer at Glass Cactus
DESCRIPTION:What: \n\nMulti Chamber Mixer\n\n\n\nWhen: \n\nTuesday\, October 9 5:00-7:00 p.m.\n\n\n\nWhere: \n\nGlass Cactus\n\nGaylord Texan Resort & Convention Center\n\n1501 Gaylord Trail\n\nGrapevine\, TX 76051\n\n\n\nDetails: \n\nTicket Required for entry! \n\n\n	\n		Only two tickets per Chamber member business \n	\n		Tickets available at Chamber office - first come\, first serve \n	\n		No reservations \n	\n		No holding tickets \n	\n		Tickets are limited \n\nWe are looking forward to another great Multi Chamber Mixer\, with ten area Chambers involved\, including: Grapevine\, Flower Mound\, Southlake\, NE Tarrant\, Coppell\, Lewisville\, HEB\, Greater Keller\, Colleyville and NW Metroport.\n\n\n\nDon't miss this opportunity to network with businesses from all around the area!
X-ALT-DESC;FMTTYPE=text/html:<span style="font-size:14px\;"><span style="font-family: arial\; "><strong>What: </strong><br />\nMulti Chamber Mixer<br />\n<br />\n<strong>When: </strong><br />\nTuesday\, October 9 5:00-7:00 p.m.<br />\n<br />\n<strong>Where: </strong><br />\nGlass Cactus<br />\nGaylord Texan Resort &amp\; Convention Center<br />\n1501 Gaylord Trail<br />\nGrapevine\, TX 76051<br />\n<br />\n<strong>Details: </strong><br />\nTicket Required for entry! </span></span><br />\n<ul>\n	<li>\n		<span style="font-size:14px\;"><span style="font-family: arial\; ">Only two tickets per Chamber member business </span></span></li>\n	<li>\n		<span style="font-size:14px\;"><span style="font-family: arial\; ">Tickets available at Chamber office - first come\, first serve </span></span></li>\n	<li>\n		<span style="font-size:14px\;"><span style="font-family: arial\; ">No reservations </span></span></li>\n	<li>\n		<span style="font-size:14px\;"><span style="font-family: arial\; ">No holding tickets&nbsp\;</span></span></li>\n	<li>\n		<span style="font-size:14px\;"><span style="font-family: arial\; ">Tickets are limited </span></span></li>\n</ul>\n<span style="font-size:14px\;"><span style="font-family: arial\; ">We are looking forward to another great Multi Chamber Mixer\, with ten area Chambers involved\, including: Grapevine\, Flower Mound\, Southlake\, NE Tarrant\, Coppell\, Lewisville\, HEB\, Greater Keller\, Colleyville and NW Metroport.<br />\n<br />\nDon&#39\;t miss this opportunity to network with businesses from all around the area!</span></span>
LOCATION:Glass Cactus Gaylord Texan Resort and Convention Center on Lake Grapevine 1501 Gaylord Trail Grapevine\, TX 76051
UID:e.770.162721
SEQUENCE:3
DTSTAMP:20260422T110532Z
URL:https://business.grapevinechamber.org/events/details/multi-chamber-mixer-at-glass-cactus-10-09-2012-162721
END:VEVENT

END:VCALENDAR
