BEGIN:VCALENDAR
VERSION:2.0
PRODID:-//ChamberMaster//Event Calendar 2.0//EN
METHOD:PUBLISH
X-PUBLISHED-TTL:P3D
REFRESH-INTERVAL:P3D
CALSCALE:GREGORIAN
BEGIN:VEVENT
DTSTART:20230821T220000Z
DTEND:20230822T000000Z
X-MICROSOFT-CDO-ALLDAYEVENT:FALSE
SUMMARY:Multi-Chamber Mixer
DESCRIPTION:Multi Chamber Mixer with Grapevine\, Colleyville\, HEB\, Southlake\, NE Tarrant\, Keller & Metroport chambers.  Each Chamber will have a limit of 75 tickets to provide to their membership at no charge.
X-ALT-DESC;FMTTYPE=text/html:Multi Chamber Mixer with Grapevine\, Colleyville\, HEB\, Southlake\, NE Tarrant\, Keller &amp\; Metroport chambers.&nbsp\; Each Chamber will have a limit of 75 tickets to provide to their membership at no charge.
LOCATION:Chicken N Pickle 4600 Merlot Ave. Grapevine\, TX 76051
UID:e.770.196952
SEQUENCE:3
DTSTAMP:20260424T073051Z
URL:https://business.grapevinechamber.org/events/details/multi-chamber-mixer-196952
END:VEVENT

END:VCALENDAR
