BEGIN:VCALENDAR
VERSION:2.0
PRODID:-//ChamberMaster//Event Calendar 2.0//EN
METHOD:PUBLISH
X-PUBLISHED-TTL:P3D
REFRESH-INTERVAL:P3D
CALSCALE:GREGORIAN
BEGIN:VEVENT
DTSTART:20121006T003000Z
DTEND:20121006T003000Z
X-MICROSOFT-CDO-ALLDAYEVENT:FALSE
SUMMARY:Movie- Wizard of Oz
DESCRIPTION:1939 original production of the family movie "The Wizard of Oz".\n\nGenre: Adventure\, family and fantasy.
X-ALT-DESC;FMTTYPE=text/html:1939 original production of the family movie &quot\;The Wizard of Oz&quot\;.<br />\nGenre: Adventure\, family and fantasy.<br />\n<br />\n<br />\n
LOCATION:Palace Theatre\, 300 S. Main\, Grapevine\, TX 76051
UID:e.770.163047
SEQUENCE:3
DTSTAMP:20260422T110632Z
URL:https://business.grapevinechamber.org/events/details/movie-wizard-of-oz-10-05-2012-163047
END:VEVENT

END:VCALENDAR
