BEGIN:VCALENDAR
VERSION:2.0
PRODID:-//ChamberMaster//Event Calendar 2.0//EN
METHOD:PUBLISH
X-PUBLISHED-TTL:P3D
REFRESH-INTERVAL:P3D
CALSCALE:GREGORIAN
BEGIN:VEVENT
DTSTART:20260314T230000Z
DTEND:20260315T030000Z
X-MICROSOFT-CDO-ALLDAYEVENT:FALSE
SUMMARY:Michael Ross Nugent - Buble Tribute
DESCRIPTION:Grapevine Elks Lodge Presents : Bubl  Tribute\n\n\n\n\n     March 14\n\n       6:00 PM - 10:00 PM CDT \n\n\n\n        909 Bushong\n\n        Grapevine
X-ALT-DESC;FMTTYPE=text/html:<h4><span style="font-size:18px"><strong>Grapevine Elks Lodge Presents : Bubl&egrave\; Tribute</strong></span></h4>\n\n<div style="margin-left:-16px">\n<div>\n<div>\n<h6><strong><span style="font-size:16px">&nbsp\; &nbsp\; &nbsp\;March 14</span></strong></h6>\n\n<p>&nbsp\; &nbsp\; &nbsp\;<span style="font-size:14px"> &nbsp\;6:00 PM - 10:00 PM CDT&nbsp\;</span><br />\n<br />\n&nbsp\; &nbsp\; &nbsp\; &nbsp\; 909 Bushong<br />\n&nbsp\; &nbsp\; &nbsp\; &nbsp\; Grapevine<br />\n<br />\n<br />\n<br />\n<br />\n<br />\n&nbsp\;</p>\n</div>\n</div>\n</div>\n
LOCATION:http://www.eventbrite.com/e/1982391965734/?discount=AutomaticDiscount_1772228264615ku
UID:e.770.204502
SEQUENCE:3
DTSTAMP:20260422T141140Z
URL:https://business.grapevinechamber.org/events/details/michael-ross-nugent-buble-tribute-204502
END:VEVENT

END:VCALENDAR
