BEGIN:VCALENDAR
VERSION:2.0
PRODID:-//ChamberMaster//Event Calendar 2.0//EN
METHOD:PUBLISH
X-PUBLISHED-TTL:P3D
REFRESH-INTERVAL:P3D
CALSCALE:GREGORIAN
BEGIN:VEVENT
DTSTART:20121011T163000Z
DTEND:20121011T180000Z
X-MICROSOFT-CDO-ALLDAYEVENT:FALSE
SUMMARY:Membership Luncheon
DESCRIPTION:Sponsor: Baylor Regional Medical Center at Grapevine\n\n	Program: State of the City with details on Bond Elections\n\n	Caterer: Esparza's Restaurante Mexicano
X-ALT-DESC;FMTTYPE=text/html:<div style="min-width: 325px\; width: 325px\; float: left\; clear: left\; display: block\; line-height: normal\; white-space: normal\; padding-top: 5px\;">\n	Sponsor: Baylor Regional Medical Center at Grapevine</div>\n<div style="min-width: 325px\; width: 325px\; float: left\; clear: left\; display: block\; line-height: normal\; white-space: normal\; padding-top: 5px\;">\n	Program: State of the City with details on Bond Elections</div>\n<div style="min-width: 325px\; width: 325px\; float: left\; clear: left\; display: block\; line-height: normal\; white-space: normal\; padding-top: 5px\;">\n	Caterer: Esparza&#39\;s Restaurante Mexicano</div>\n
LOCATION:Grapevine Convention Center 1209 S. Main St. Grapevine\, TX 76051 (817) 410-3459
UID:e.770.161895
SEQUENCE:3
DTSTAMP:20260422T110300Z
URL:https://business.grapevinechamber.org/events/details/membership-luncheon-10-11-2012-161895
END:VEVENT

END:VCALENDAR
