BEGIN:VCALENDAR
VERSION:2.0
PRODID:-//ChamberMaster//Event Calendar 2.0//EN
METHOD:PUBLISH
X-PUBLISHED-TTL:P3D
REFRESH-INTERVAL:P3D
CALSCALE:GREGORIAN
BEGIN:VEVENT
DTSTART:20120823T163000Z
DTEND:20120823T180000Z
X-MICROSOFT-CDO-ALLDAYEVENT:FALSE
SUMMARY:Membership Luncheon
DESCRIPTION:Sponsor: Data Shredding Services of Texas\, Inc. II\n\n	Program: Frisco Young Entrepreneurs Program\n\n	Caterer: Carrabba's Italian Grill
X-ALT-DESC;FMTTYPE=text/html:<div style="min-width: 325px\; width: 325px\; float: left\; clear: left\; display: block\; line-height: normal\; white-space: normal\; padding-top: 5px\;">\n	Sponsor: <a href="http://business.grapevinechamber.org/list/member/data-shredding-services-of-texas-inc-ii-grapevine-3594" target="_blank">Data Shredding Services of Texas\, Inc. II</a></div>\n<div style="min-width: 325px\; width: 325px\; float: left\; clear: left\; display: block\; line-height: normal\; white-space: normal\; padding-top: 5px\;">\n	Program: <a href="http://www.grapevinechamber.org/yea.aspx" target="_blank">Frisco Young Entrepreneurs Program</a></div>\n<div style="min-width: 325px\; width: 325px\; float: left\; clear: left\; display: block\; line-height: normal\; white-space: normal\; padding-top: 5px\;">\n	Caterer: <a href="http://business.grapevinechamber.org/list/member/carrabba-s-italian-grill-grapevine-2420" target="_blank">Carrabba&#39\;s Italian Grill</a></div>\n
LOCATION:Grapevine Convention Center 1209 S. Main St. Grapevine\, TX 76051 (817) 410-3459
UID:e.770.161894
SEQUENCE:3
DTSTAMP:20260422T075832Z
URL:https://business.grapevinechamber.org/events/details/membership-luncheon-08-23-2012-161894
END:VEVENT

END:VCALENDAR
