BEGIN:VCALENDAR
VERSION:2.0
PRODID:-//ChamberMaster//Event Calendar 2.0//EN
METHOD:PUBLISH
X-PUBLISHED-TTL:P3D
REFRESH-INTERVAL:P3D
CALSCALE:GREGORIAN
BEGIN:VEVENT
DTSTART:20230817T163000Z
DTEND:20230817T180000Z
X-MICROSOFT-CDO-ALLDAYEVENT:FALSE
SUMMARY:Membership Luncheon
DESCRIPTION:Program: Texas State Representative\, Giovanni Capriglione\n\nSponsor: Classic Chevrolet\n\nCaterer: Harold Dean Smoked Goods
X-ALT-DESC;FMTTYPE=text/html:Program: Texas State Representative\, Giovanni Capriglione<br />\nSponsor: Classic Chevrolet<br />\nCaterer: Harold Dean Smoked Goods
LOCATION:Grapevine Convention Center 1209 S Main St Grapevine\, TX 76051
UID:e.770.195119
SEQUENCE:3
DTSTAMP:20260424T073104Z
URL:https://business.grapevinechamber.org/events/details/membership-luncheon-08-17-2023-195119
END:VEVENT

END:VCALENDAR
