BEGIN:VCALENDAR
VERSION:2.0
PRODID:-//ChamberMaster//Event Calendar 2.0//EN
METHOD:PUBLISH
X-PUBLISHED-TTL:P3D
REFRESH-INTERVAL:P3D
CALSCALE:GREGORIAN
BEGIN:VEVENT
DTSTART:20160616T163000Z
DTEND:20160616T180000Z
X-MICROSOFT-CDO-ALLDAYEVENT:FALSE
SUMMARY:Membership Luncheon
DESCRIPTION:Online Registration is NOW CLOSED. Please contact the Chamber office if you would like to attend at (817) 481-1522.\n\n\n\nProgram: Effective Communication\, Brian Williams\n\nSponsor: Gaylord Texan Resort & Convention Center\n\nCaterer: Brio Tuscan Grille\n\n\n\nAbout the Speaker:\n\nWith over 20 years of global corporate leadership experience ranging from Silicon Valley to Fortune 100 companies in 12 different countries\, Brian Williams brings a new perspective to the business of Sales & Communications Training. He discovered that ineffective communication skills\, and the problems with traditional presentations\, cut across country borders and nationalities\, so he wanted to give all speakers a new perspective when he started Perspectivity.\n\n\n\nHe uses his years of corporate and global experience to bring depth and professional insight to the communication skills he enthusiastically teaches today. He has worked with organizations such as Cisco\, AT&T\, Gatorade\, the NFL\, and a private company that only serves those on Forbes 400 richest people in the world.\n\n\n\nBrian lives in Dallas with his wife and 4 children\, and is an avid runner\, an amateur photographer\, and enjoys international travel.
X-ALT-DESC;FMTTYPE=text/html:<br />\n<strong><span style="color:#FF0000\;">Online Registration is NOW CLOSED. Please contact the Chamber office if you would like to attend at (817) 481-1522.</span><br />\n<br />\nProgram: </strong>Effective Communication\, Brian Williams<br />\n<strong>Sponsor: </strong>Gaylord Texan Resort &amp\; Convention Center<br />\n<strong>Caterer:</strong> Brio Tuscan Grille<br />\n<br />\n<strong>About the Speaker:</strong><br />\nWith over 20 years of global corporate leadership experience ranging from Silicon Valley to Fortune 100 companies in 12 different countries\, Brian Williams brings a new perspective to the business of Sales &amp\; Communications Training. He discovered that ineffective communication skills\, and the problems with traditional presentations\, cut across country borders and nationalities\, so he wanted to give all speakers a new perspective when he started Perspectivity.<br />\n<br />\nHe uses his years of corporate and global experience to bring depth and professional insight to the communication skills he enthusiastically teaches today. He has worked with organizations such as Cisco\, AT&amp\;T\, Gatorade\, the NFL\, and a private company that only serves those on Forbes 400 richest people in the world.<br />\n<br />\nBrian lives in Dallas with his wife and 4 children\, and is an avid runner\, an amateur photographer\, and enjoys international travel.
LOCATION:Grapevine Convention Center 1209 S. Main St. Grapevine\, TX 76051 (Corner of Vine St. & Municipal Way)
UID:e.770.171586
SEQUENCE:3
DTSTAMP:20260419T145315Z
URL:https://business.grapevinechamber.org/events/details/membership-luncheon-06-16-2016-171586
END:VEVENT

END:VCALENDAR
