BEGIN:VCALENDAR
VERSION:2.0
PRODID:-//ChamberMaster//Event Calendar 2.0//EN
METHOD:PUBLISH
X-PUBLISHED-TTL:P3D
REFRESH-INTERVAL:P3D
CALSCALE:GREGORIAN
BEGIN:VEVENT
DTSTART:20230615T163000Z
DTEND:20230615T180000Z
X-MICROSOFT-CDO-ALLDAYEVENT:FALSE
SUMMARY:Membership Luncheon
DESCRIPTION:Program: Naman Mahajan- Baylor Scott & White Grapevine\n\nSponsor: Coca-Cola Southwest Beverages\n\nCaterer: Wise Guys Pizzeria
X-ALT-DESC;FMTTYPE=text/html:<br />\n<br />\nProgram: Naman Mahajan- Baylor Scott &amp\; White Grapevine<br />\nSponsor: Coca-Cola Southwest Beverages<br />\nCaterer: Wise Guys Pizzeria
LOCATION:Grapevine Convention Center 1209 S Main St Grapevine\, TX 76051
UID:e.770.195117
SEQUENCE:3
DTSTAMP:20260425T212352Z
URL:https://business.grapevinechamber.org/events/details/membership-luncheon-06-15-2023-195117
END:VEVENT

END:VCALENDAR
