BEGIN:VCALENDAR
VERSION:2.0
PRODID:-//ChamberMaster//Event Calendar 2.0//EN
METHOD:PUBLISH
X-PUBLISHED-TTL:P3D
REFRESH-INTERVAL:P3D
CALSCALE:GREGORIAN
BEGIN:VEVENT
DTSTART:20260521T163000Z
DTEND:20260521T180000Z
X-MICROSOFT-CDO-ALLDAYEVENT:FALSE
SUMMARY:Membership Luncheon
DESCRIPTION:Program: Leadership Grapevine Graduation\n\nSponsor: Boeing\n\nCaterer: Rock & Brews Grapevine
X-ALT-DESC;FMTTYPE=text/html:<br />\n<br />\n<strong>Program</strong>: Leadership Grapevine Graduation<br />\n<strong>Sponsor</strong>: Boeing<br />\n<strong>Caterer</strong>: Rock &amp\; Brews Grapevine
LOCATION:Grapevine Convention Center 1209 S Main St Grapevine\, TX 76051
UID:e.770.203241
SEQUENCE:3
DTSTAMP:20260421T113539Z
URL:https://business.grapevinechamber.org/events/details/membership-luncheon-05-21-2026-203241
END:VEVENT

END:VCALENDAR
