BEGIN:VCALENDAR
VERSION:2.0
PRODID:-//ChamberMaster//Event Calendar 2.0//EN
METHOD:PUBLISH
X-PUBLISHED-TTL:P3D
REFRESH-INTERVAL:P3D
CALSCALE:GREGORIAN
BEGIN:VEVENT
DTSTART:20160317T163000Z
DTEND:20160317T180000Z
X-MICROSOFT-CDO-ALLDAYEVENT:FALSE
SUMMARY:Membership Luncheon
DESCRIPTION:Online Registration is CLOSED! If you would like to attend the luncheon\, please contact the Chamber office at (817) 481-1522. Late luncheon fee will apply.\n\n\n\nProgram: \n\nShaping the Destiny of Your Community\n\nRon Holifield\, CEO of Strategic Government Resources\n\n\n\nSponsor: \n\nTexas Health Harris Methodist Hospital Southlake\n\n\n\nCaterer: \n\nSo-Cal Tacos\n\n\n\nAbout the Speaker:\n\nRon Holifield is CEO of SGR which helps local governments Recruit\, Assess and Develop innovative thought leaders. His current clients include over 300 local governments in 41 states\, training over 1000 employees per month. Ron has also provided strategic consultation to some of the leading companies in America\, including American Express\, Xerox\, IBM\, PeopleSoft\, Verizon\, Aramark\, Space Imaging\, NASA and many more.\n\n\n\nHe previously served almost two decades in City Management with six different cities\, including City Manager in Garland\, and Assistant City Manager in Plano\, Texas. Ron is a recognized leader in innovation and initiatives to run government using private business principles. While still active as a City Manager\, "Texas Business Magazine" named DeSoto as one of the "Best Managed Cities in Texas".\n\n\n\nRon is a frequent speaker at conferences nationwide\, speaking at over 50 events per year. His first book was jointly published by ICMA and the Alliance for Innovation\, and he has contributed to numerous publications and articles. His newest book\, Creating a Servant Leadership Culture\, will be published this fall. It provides a practical game plan for organizational transformation.\n\n\n\nRon has been interviewed\, and/or quoted by numerous news publications including National Public Radio\, Entrepreneur Magazine\, American Express Open Forum\, Texas City Manager Magazine\, Texas Town and City\, Government Technology Magazine\, GovWire Online Magazine\, Federal Computer Week Magazine\, CIO Magazine\, Dallas Morning News\, Dallas Business Journal\, Plano Star Courier\, DFW Tech Biz\, Today Newspapers\, Focus on the News\, D Magazine\, International Association of Chiefs of Police Journal\, Texas Fire Chief's Magazine\, as well as numerous local news affiliates.\n\n\n\nRon's weekly 10 in 10 Update on Leadership and Innovation has over 75\,000 readers.
X-ALT-DESC;FMTTYPE=text/html:<br />\n<strong><span style="color:#FF0000\;">Online Registration is CLOSED! If you would like to attend the luncheon\, please contact the Chamber office at (817) 481-1522. Late luncheon fee will apply.</span><br />\n<br />\nProgram: </strong><br />\n<em>Shaping the Destiny of Your Community</em><br />\nRon Holifield\, <em>CEO of Strategic Government Resources</em><br />\n<br />\n<strong>Sponsor: </strong><br />\nTexas Health Harris Methodist Hospital Southlake<br />\n<br />\n<strong>Caterer: </strong><br />\nSo-Cal Tacos<br />\n<br />\n<u><strong>About the Speaker</strong></u><strong>:</strong><br />\nRon Holifield is CEO of SGR which helps local governments Recruit\, Assess and Develop innovative thought leaders. His current clients include over 300 local governments in 41 states\, training over 1000 employees per month. Ron has also provided strategic consultation to some of the leading companies in America\, including American Express\, Xerox\, IBM\, PeopleSoft\, Verizon\, Aramark\, Space Imaging\, NASA and many more.<br />\n<br />\nHe previously served almost two decades in City Management with six different cities\, including City Manager in Garland\, and Assistant City Manager in Plano\, Texas. Ron is a recognized leader in innovation and initiatives to run government using private business principles. While still active as a City Manager\, &ldquo\;Texas Business Magazine&rdquo\; named DeSoto as one of the &ldquo\;Best Managed Cities in Texas&rdquo\;.<br />\n<br />\nRon is a frequent speaker at conferences nationwide\, speaking at over 50 events per year. His first book was jointly published by ICMA and the Alliance for Innovation\, and he has contributed to numerous publications and articles. His newest book\, Creating a Servant Leadership Culture\, will be published this fall. It provides a practical game plan for organizational transformation.<br />\n<br />\nRon has been interviewed\, and/or quoted by numerous news publications including National Public Radio\, Entrepreneur Magazine\, American Express Open Forum\, Texas City Manager Magazine\, Texas Town and City\, Government Technology Magazine\, GovWire Online Magazine\, Federal Computer Week Magazine\, CIO Magazine\, Dallas Morning News\, Dallas Business Journal\, Plano Star Courier\, DFW Tech Biz\, Today Newspapers\, Focus on the News\, D Magazine\, International Association of Chiefs of Police Journal\, Texas Fire Chief&rsquo\;s Magazine\, as well as numerous local news affiliates.<br />\n<br />\nRon&rsquo\;s weekly 10 in 10 Update on Leadership and Innovation has over 75\,000 readers.
LOCATION:Grapevine Convention Center 1209 S. Main St. Grapevine\, TX 76051 (Corner of Vine St. & Municipal Way)
UID:e.770.171583
SEQUENCE:3
DTSTAMP:20260425T141944Z
URL:https://business.grapevinechamber.org/events/details/membership-luncheon-03-17-2016-171583
END:VEVENT

END:VCALENDAR
