BEGIN:VCALENDAR
VERSION:2.0
PRODID:-//ChamberMaster//Event Calendar 2.0//EN
METHOD:PUBLISH
X-PUBLISHED-TTL:P3D
REFRESH-INTERVAL:P3D
CALSCALE:GREGORIAN
BEGIN:VEVENT
DTSTART:20130314T163000Z
DTEND:20130314T180000Z
X-MICROSOFT-CDO-ALLDAYEVENT:FALSE
SUMMARY:Membership Luncheon
DESCRIPTION:Sponsor: Bank of the West\n\nProgram: Rob Anderson\, deputy project director of the DFW Connector for NorthGate Constructors\n\nCaterer: P.F. Chang's China Bistro
X-ALT-DESC;FMTTYPE=text/html:<strong>Sponsor: </strong>Bank of the West<br />\n<strong>Program: </strong>Rob Anderson\, deputy project director of the DFW Connector for NorthGate Constructors<br />\n<strong>Caterer: </strong>P.F. Chang&#39\;s China Bistro
LOCATION:Grapevine Convention Center 1209 S. Main St. Grapevine\, TX 76051 (817) 410-3459
UID:e.770.162937
SEQUENCE:3
DTSTAMP:20260421T173822Z
URL:https://business.grapevinechamber.org/events/details/membership-luncheon-03-14-2013-162937
END:VEVENT

END:VCALENDAR
