BEGIN:VCALENDAR
VERSION:2.0
PRODID:-//ChamberMaster//Event Calendar 2.0//EN
METHOD:PUBLISH
X-PUBLISHED-TTL:P3D
REFRESH-INTERVAL:P3D
CALSCALE:GREGORIAN
BEGIN:VEVENT
DTSTART:20160218T173000Z
DTEND:20160218T190000Z
X-MICROSOFT-CDO-ALLDAYEVENT:FALSE
SUMMARY:Membership Luncheon
DESCRIPTION:Online Registration is Now CLOSED! If you would like to attend\, please contact the Chamber office at (817) 481-1522.\n\n\n\nProgram: \n\nPublic Safety Report\n\nGrapevine Police Chief Eddie Salame\n\n\n\nCoppell-Grapevine Police Motorcycle Rodeo\n\nSenior Officer Shane Harding\n\nSenior Officer R.J. Hudson\n\n\n\n\nSponsor: Aviall\, A Boeing Company\n\n\n\nCaterer: Zoe's Kitchen\n\n\n\nAbout the Speakers:\n\nGrapevine Police Chief Eddie Salame began his law enforcement career with the Fort Worth Police Department in 1984\, before joining the Grapevine Police Department in 1991. He was appointed Chief of Police in 2005. He has been married for 32 years and has two daughters and four grandchildren.\n\n\n\nSenior Officer Shane Harding has 15 years of police experience and began with the Grapevine Police Department in 2004. He was certified as a Police Motorcycle Officer in 2008\, and he is currently assigned to the Grapevine Police Traffic Unit. He is married and has three children\, two sons and one daughter.\n\n\n\nSenior Officer R.J. Hudson has more than 20 years of police experience and began with the Grapevine Police Department in 2005. He was certified as a Police Motorcycle Officer in 1998 and has been assigned to the Grapevine Police Motorcycle Traffic Unit for the past eight years. He is married and has one daughter.
X-ALT-DESC;FMTTYPE=text/html:<strong>Online Registration is Now CLOSED! If you would like to attend\, please contact the Chamber office at (817) 481-1522.<br />\n<br />\nProgram: </strong>\n\n<div style="margin-left: 40px\;"><strong>Public Safety Report</strong><br />\n<em>Grapevine Police Chief Eddie Salame</em><br />\n<br />\n<strong>Coppell-Grapevine Police Motorcycle Rodeo</strong><br />\n<em>Senior Officer Shane Harding<br />\nSenior Officer R.J. Hudson</em></div>\n<br />\n<br />\n<strong>Sponsor: </strong>Aviall\, A Boeing Company<br />\n<br />\n<strong>Caterer: </strong>Zoe&#39\;s Kitchen<br />\n<br />\n<strong>About the Speakers:</strong><br />\nGrapevine Police Chief Eddie Salame began his law enforcement career with the Fort Worth Police Department in 1984\, before joining the Grapevine Police Department in 1991. He was appointed Chief of Police in 2005. He has been married for 32 years and has two daughters and four grandchildren.<br />\n<br />\nSenior Officer Shane Harding has 15 years of police experience and began with the Grapevine Police Department in 2004. He was certified as a Police Motorcycle Officer in 2008\, and he is currently assigned to the Grapevine Police Traffic Unit. He is married and has three children\, two sons and one daughter.<br />\n<br />\nSenior Officer R.J. Hudson has more than 20 years of police experience and began with the Grapevine Police Department in 2005. He was certified as a Police Motorcycle Officer in 1998 and has been assigned to the Grapevine Police Motorcycle Traffic Unit for the past eight years. He is married and has one daughter.
LOCATION:Grapevine Convention Center 1209 S. Main St. Grapevine\, TX 76051 (Corner of Vine St. & Municipal Way)
UID:e.770.171582
SEQUENCE:3
DTSTAMP:20260425T181646Z
URL:https://business.grapevinechamber.org/events/details/membership-luncheon-02-18-2016-171582
END:VEVENT

END:VCALENDAR
