BEGIN:VCALENDAR
VERSION:2.0
PRODID:-//ChamberMaster//Event Calendar 2.0//EN
METHOD:PUBLISH
X-PUBLISHED-TTL:P3D
REFRESH-INTERVAL:P3D
CALSCALE:GREGORIAN
BEGIN:VEVENT
DTSTART:20131109T000000Z
DTEND:20131109T030000Z
X-MICROSOFT-CDO-ALLDAYEVENT:FALSE
SUMMARY:Members only preview prior opening at Zales Outlet The Diamond Store in Grapevin
DESCRIPTION:Zales Outlet The Diamond Store is proud to open its doors for a Preview of our collections.\n\nThis event will have free give always\, free jewelry cleaning and inspecting.\n\nIt is only open to Chamber members\, come join us!
X-ALT-DESC;FMTTYPE=text/html:<b>Zales Outlet The Diamond Store&nbsp\;</b>is proud to open its doors for a Preview of our collections.<br />\nThis event will have free give always\, free jewelry cleaning and inspecting.<br />\nIt is only open to Chamber members\, come join us!\n<p>\n	&nbsp\;</p>\n
LOCATION:Zales Outlet inside Grapevine Mills Mall
UID:e.770.164165
SEQUENCE:3
DTSTAMP:20260421T013753Z
URL:https://business.grapevinechamber.org/events/details/members-only-preview-prior-opening-at-zales-outlet-the-diamond-store-in-grapevin-11-08-2013-164165
END:VEVENT

END:VCALENDAR
