BEGIN:VCALENDAR
VERSION:2.0
PRODID:-//ChamberMaster//Event Calendar 2.0//EN
METHOD:PUBLISH
X-PUBLISHED-TTL:P3D
REFRESH-INTERVAL:P3D
CALSCALE:GREGORIAN
BEGIN:VEVENT
DTSTART:20220817T223000Z
DTEND:20220818T000000Z
X-MICROSOFT-CDO-ALLDAYEVENT:FALSE
SUMMARY:Meet & Greet
DESCRIPTION:Please join us for a time of celebration of the lives that will be positively changed at this monumental event. Be at our first party and see how we can help you or those special people in your life. We're here to support your future and the future generations to come! Free refreshments and giveaways ??????! Come and go event. Bring a friend or two??. RSVP under "EVENTS" on the website www.myfreedomawaits.com
X-ALT-DESC;FMTTYPE=text/html:<span style="color:rgba(0\, 0\, 0\, 0.9)\; font-family:-apple-system\,system-ui\,blinkmacsystemfont\,segoe ui\,roboto\,helvetica neue\,fira sans\,ubuntu\,oxygen\,oxygen sans\,cantarell\,droid sans\,apple color emoji\,segoe ui emoji\,segoe ui emoji\,segoe ui symbol\,lucida grande\,helvetica\,arial\,sans-serif\; font-size:14px">Please join us for a time of celebration of the lives that will be positively changed at this monumental event. Be at our first party and see how we can help you or those special people in your life. We&rsquo\;re here to support your future and the future generations to come!&nbsp\;Free refreshments and giveaways ??????! Come and go event.&nbsp\;Bring a friend or two??. RSVP under &quot\;EVENTS&quot\; on the website www.myfreedomawaits.com</span>
LOCATION:The REC of Grapevine 1175 Municipal Way Grapevine\, TX 76051
UID:e.770.195478
SEQUENCE:3
DTSTAMP:20260425T211054Z
URL:https://business.grapevinechamber.org/events/details/meet-greet-195478
END:VEVENT

END:VCALENDAR
