BEGIN:VCALENDAR
VERSION:2.0
PRODID:-//ChamberMaster//Event Calendar 2.0//EN
METHOD:PUBLISH
X-PUBLISHED-TTL:P3D
REFRESH-INTERVAL:P3D
CALSCALE:GREGORIAN
BEGIN:VEVENT
DTSTART:20130212T233000Z
DTEND:20130212T233000Z
X-MICROSOFT-CDO-ALLDAYEVENT:FALSE
SUMMARY:Mardi Gras Business After Hours Mixer at Cowboys Golf Club
DESCRIPTION:A networking event to introduce Chamber businesses to the host corporation as well as providing an opportunity for Chamber Members to build a network of customers and contacts in the Grapevine area.\n\n	\n\n	There will be cash prizes sponsored by ASDierolf Concrete\, LLC for the best Mardi Gras Costume (1st - $100\, 2nd - $75\, 3rd - $50).\n\n	\n\n	Please RSVP online if you plan to attend
X-ALT-DESC;FMTTYPE=text/html:<p>\n	<span style="font-size:16px\;"><span style="font-family: arial\;">A networking event to introduce Chamber businesses to the host corporation as well as providing an opportunity for Chamber Members to build a network of customers and contacts in the Grapevine area.<br />\n	<br />\n	<em><strong>There will be cash prizes sponsored by ASDierolf Concrete\, LLC for the best Mardi Gras Costume (1st - $100\, 2nd - $75\, 3rd - $50).</strong></em><br />\n	<br />\n	<strong>Please RSVP online if you plan to attend &nbsp\;</strong></span></span></p>\n
LOCATION:Cowboys Golf Club 1600 Fairway Dr. Grapevine\, TX 76051
UID:e.770.163247
SEQUENCE:3
DTSTAMP:20260421T194255Z
URL:https://business.grapevinechamber.org/events/details/mardi-gras-business-after-hours-mixer-at-cowboys-golf-club-02-12-2013-163247
END:VEVENT

END:VCALENDAR
