BEGIN:VCALENDAR
VERSION:2.0
PRODID:-//ChamberMaster//Event Calendar 2.0//EN
METHOD:PUBLISH
X-PUBLISHED-TTL:P3D
REFRESH-INTERVAL:P3D
CALSCALE:GREGORIAN
BEGIN:VEVENT
DTSTART:20240124T003000Z
DTEND:20240124T020000Z
X-MICROSOFT-CDO-ALLDAYEVENT:FALSE
SUMMARY:Manifestation Meditation Class
DESCRIPTION:Join us for a powerful Manifestation Meditation! \n\n\n\nImmerse yourself in the power of positive thinking and learn techniques to manifest your dreams into reality. \n\nHosted at Your CBD Store Southlake\, this in-person event offers a serene and welcoming atmosphere for you to relax and connect with your inner self. Discover the art of manifestation through guided meditation\, visualization exercises\, and affirmations. \n\n\n\nDuring this event\, you'll have the opportunity to explore various meditation techniques that can help you align your thoughts and intentions with your desired outcomes. Whether you're seeking abundance\, love\, success\, or overall well-being\, this event will provide you with practical tools to manifest your desires. \n\n\n\n*Please bring a mat\, blanket or anything else needed to be comfortable.
X-ALT-DESC;FMTTYPE=text/html:<strong>Join us for a powerful Manifestation Meditation!&nbsp\;</strong><br />\n<br />\nImmerse yourself in the power of positive thinking and learn techniques to manifest your dreams into reality.&nbsp\;<br />\nHosted at Your CBD Store Southlake\, this in-person event offers a serene and welcoming atmosphere for you to relax and connect with your inner self. Discover the art of manifestation through guided meditation\, visualization exercises\, and affirmations.&nbsp\;<br />\n<br />\nDuring this event\, you&#39\;ll have the opportunity to explore various meditation techniques that can help you align your thoughts and intentions with your desired outcomes. Whether you&#39\;re seeking abundance\, love\, success\, or overall well-being\, this event will provide you with practical tools to manifest your desires.&nbsp\;<br />\n<br />\n<strong>*Please bring a mat\, blanket or anything else needed to be comfortable.&nbsp\;</strong>
LOCATION:Your CBD Store Southlake 2354 E State Hwy 114 Southlake\, TX 76092
UID:e.770.198206
SEQUENCE:3
DTSTAMP:20260424T145426Z
URL:https://business.grapevinechamber.org/events/details/manifestation-meditation-class-198206
END:VEVENT

END:VCALENDAR
