BEGIN:VCALENDAR
VERSION:2.0
PRODID:-//ChamberMaster//Event Calendar 2.0//EN
METHOD:PUBLISH
X-PUBLISHED-TTL:P3D
REFRESH-INTERVAL:P3D
CALSCALE:GREGORIAN
BEGIN:VEVENT
DTSTART;VALUE=DATE:20250516
DTEND;VALUE=DATE:20250519
TRANSP:TRANSPARENT
X-MICROSOFT-CDO-ALLDAYEVENT:TRUE
SUMMARY:Main Street Fest - A Craft Brew Experience
DESCRIPTION:Tap into three full days of festival fun at Grapevine's Annual Main Street Fest - A Craft Brew Experience! Held along Main Street in Historic Downtown Grapevine\, guests will experience new and returning favorites at this event\, with a special emphasis on craft brew tasting experiences.
X-ALT-DESC;FMTTYPE=text/html:Tap into three full days of festival fun at Grapevine&#39\;s Annual Main Street Fest - A Craft Brew Experience! Held along Main Street in Historic Downtown Grapevine\, guests will experience new and returning favorites at this event\, with a special emphasis on craft brew tasting experiences.
LOCATION:Historic Downtown Grapevine
UID:e.770.200520
SEQUENCE:3
DTSTAMP:20260426T033234Z
URL:https://business.grapevinechamber.org/events/details/main-street-fest-a-craft-brew-experience-200520
END:VEVENT

END:VCALENDAR
