BEGIN:VCALENDAR
VERSION:2.0
PRODID:-//ChamberMaster//Event Calendar 2.0//EN
METHOD:PUBLISH
X-PUBLISHED-TTL:P3D
REFRESH-INTERVAL:P3D
CALSCALE:GREGORIAN
BEGIN:VEVENT
DTSTART:20240808T210000Z
DTEND:20240809T000000Z
X-MICROSOFT-CDO-ALLDAYEVENT:FALSE
SUMMARY:Main Event Holiday Sneak Peek
DESCRIPTION:I'd like to personally extend to you an invitation to be our guest. \n\n\n\nMain Event - Grapevine Exclusive Annual VIP Night! As one of our valued VIP Guests we would love to offer an opportunity to try out our Brand-New Catered Menu and have some fun on us!\n\n	Top-Tier In-House Catered Meal\n	Limitless Soft Drinks\n	3 Hours of All You Can Play Activities: Bowling\, Laser Tag & Billiards\n	3 Hours of All You Can Play Arcade\n	Raffle Ticket to Enter to Win a Complimentary Event in 2025\n	Custom Made Swag Bag\n	Early Holiday Booking Incentives
X-ALT-DESC;FMTTYPE=text/html:<span style="font-family:calibri\,sans-serif"><span style="font-size:11.0pt">I&rsquo\;d like to personally extend to you an invitation to be our guest.&nbsp\;</span><br />\n<br />\nMain Event - Grapevine Exclusive Annual VIP Night! As one of our valued VIP Guests we would love to offer an opportunity to try out our Brand-New Catered Menu and have some fun on us!</span>\n<ul>\n	<li><span style="font-family:calibri\,sans-serif"><span style="font-size:11.0pt">Top-Tier In-House Catered Meal</span></span></li>\n	<li><span style="font-family:calibri\,sans-serif"><span style="font-size:11.0pt">Limitless Soft Drinks</span></span></li>\n	<li><span style="font-family:calibri\,sans-serif"><span style="font-size:11.0pt">3 Hours of All You Can Play Activities: Bowling\, Laser Tag &amp\; Billiards</span></span></li>\n	<li><span style="font-family:calibri\,sans-serif"><span style="font-size:11.0pt">3 Hours of All You Can Play Arcade</span></span></li>\n	<li><span style="font-family:calibri\,sans-serif"><span style="font-size:11.0pt">Raffle Ticket to Enter to Win a Complimentary Event in 2025</span></span></li>\n	<li><span style="font-family:calibri\,sans-serif"><span style="font-size:11.0pt">Custom Made Swag Bag</span></span></li>\n	<li><span style="font-family:calibri\,sans-serif"><span style="font-size:11.0pt">Early Holiday Booking Incentives</span></span></li>\n</ul>\n
LOCATION:Main Event Entertainment 407 W. State Hwy. 114 Grapevine\, TX 76051
UID:e.770.198814
SEQUENCE:3
DTSTAMP:20260424T030133Z
URL:https://business.grapevinechamber.org/events/details/main-event-holiday-sneak-peek-198814
END:VEVENT

END:VCALENDAR
