BEGIN:VCALENDAR
VERSION:2.0
PRODID:-//ChamberMaster//Event Calendar 2.0//EN
METHOD:PUBLISH
X-PUBLISHED-TTL:P3D
REFRESH-INTERVAL:P3D
CALSCALE:GREGORIAN
BEGIN:VEVENT
DTSTART:20120826T003000Z
DTEND:20120826T043000Z
X-MICROSOFT-CDO-ALLDAYEVENT:FALSE
SUMMARY:Love for Kids\, Inc. cordially invites you to attend Palette to Palate
DESCRIPTION:Featuring Euforia & Cuban/American Artist Rolando Diaz accompanied by Pianist Seth Simmons. \n\nWine Tasting\, Chef's Table delicacies\, beautiful art\, Def Katz dance band\, Silent & Live Auction \n\n\n\nSpecial Guests: \n\nHonorary Chair - Scott Murray - TV personality & two time Emmy Sportscaster award winner.\n\nEmcee - Natalie Woods - TV Host for Hot On! Homes and former Dallas Cowboys Cheerleader.\n\nFor more information & sponsorship opportunities visit: www.palettetopalate.org\n\n\n\nProceeds to Benefit Love For Kids\, Inc.
X-ALT-DESC;FMTTYPE=text/html:<span style="font-size:16px\;">Featuring <strong>Euforia</strong> &amp\; <strong>Cuban/American Artist Rolando Diaz</strong> accompanied by <strong>Pianist Seth Simmons</strong>.&nbsp\;<br />\nWine Tasting\, Chef&#39\;s Table delicacies\, beautiful art\, Def Katz dance band\, Silent &amp\; Live Auction&nbsp\;<br />\n<br />\n<strong>Special Guests:&nbsp\;</strong><br />\n<strong>Honorary Chair - Scott Murray </strong>- TV personality &amp\; two time Emmy Sportscaster award winner.<br />\n<strong>Emcee - Natalie Woods </strong>- TV Host for Hot On! Homes and former Dallas Cowboys Cheerleader.<br />\nFor more information &amp\; sponsorship opportunities visit: <strong><u>www.palettetopalate.org</u></strong></span><br />\n<br />\n<strong><span style="font-size:16px\;">Proceeds to Benefit Love For Kids\, Inc.</span></strong>
LOCATION:Frontiers of Flight Museum 6911 Lemon Avenue Dallas\, TX 75209
UID:e.770.162975
SEQUENCE:3
DTSTAMP:20260422T080430Z
URL:https://business.grapevinechamber.org/events/details/love-for-kids-inc-cordially-invites-you-to-attend-palette-to-palate-08-25-2012-162975
END:VEVENT

END:VCALENDAR
