BEGIN:VCALENDAR
VERSION:2.0
PRODID:-//ChamberMaster//Event Calendar 2.0//EN
METHOD:PUBLISH
X-PUBLISHED-TTL:P3D
REFRESH-INTERVAL:P3D
CALSCALE:GREGORIAN
BEGIN:VEVENT
DTSTART:20220828T210000Z
DTEND:20220829T010000Z
X-MICROSOFT-CDO-ALLDAYEVENT:FALSE
SUMMARY:Love\, Cassidy Overdose Awareness Event 2022
DESCRIPTION:THE GOAL OF THE LOVE\, CASSIDY OVERDOSE AWARENESS EVENT IS TO BRING AWARENESS\, EDUCATION AND INCLUSION TO ADDICTION RECOVERY. IN HONOR OF NATIONAL OVERDOSE AWARENESS DAY (8/31)\, WE WILL HAVE A NALOXONE TRAINING AND FREE NALOXONE FOR THOSE ATTENDING BECAUSE WE KNOW THAT ADDICTION NOW TOUCHES EVERYONE'S LIFE IN SOME WAY. WE WILL ALSO BE ADDRESSING AND TALKING ABOUT THE FENTANYL POISONING CRISES THAT IS HAPPENING IN OUR COMMUNITIES. \n\n\n\nRegister HERE
X-ALT-DESC;FMTTYPE=text/html:THE GOAL OF THE LOVE\, CASSIDY OVERDOSE AWARENESS EVENT IS TO BRING AWARENESS\, EDUCATION AND INCLUSION TO ADDICTION RECOVERY. IN HONOR OF NATIONAL OVERDOSE AWARENESS DAY (8/31)\, WE WILL HAVE A NALOXONE TRAINING AND FREE NALOXONE FOR THOSE ATTENDING BECAUSE WE KNOW THAT ADDICTION NOW TOUCHES EVERYONE&#39\;S LIFE IN SOME WAY. WE WILL ALSO BE ADDRESSING AND TALKING ABOUT THE FENTANYL POISONING CRISES THAT IS HAPPENING IN OUR COMMUNITIES.&nbsp\;<br />\n<br />\n<a href="http://www.eventbrite.com/e/love-cassidy-overdose-awareness-event-2022-challenge-tickets-395598474687">Register HERE</a>
LOCATION:Paradise Cove on Lake Grapevine 3029 Midway Road\, Southlake
UID:e.770.195476
SEQUENCE:3
DTSTAMP:20260425T194247Z
URL:https://business.grapevinechamber.org/events/details/love-cassidy-overdose-awareness-event-2022-195476
END:VEVENT

END:VCALENDAR
