BEGIN:VCALENDAR
VERSION:2.0
PRODID:-//ChamberMaster//Event Calendar 2.0//EN
METHOD:PUBLISH
X-PUBLISHED-TTL:P3D
REFRESH-INTERVAL:P3D
CALSCALE:GREGORIAN
BEGIN:VEVENT
DTSTART:20120809T170000Z
DTEND:20120809T180000Z
X-MICROSOFT-CDO-ALLDAYEVENT:FALSE
SUMMARY:Look Younger with Love the Way You Age!
DESCRIPTION:Interested in Looking Younger? \n\n\n\nJoin Love the Way You Age! and Janie's Cakes for a Quick Demonstration of a Breakthrough GENETIC Anti-Aging Technology That Actually Eliminates Lines and Wrinkles in Just 10 Minutes! \n\n\n\nGrapevine Chamber of Commerce Conference Room\n\n200 Vine St. East\n\n\n\nThursday\, August 9th\n\n12-1pm\n\nBrown Bag Luncheon\n\n\n\nIced Tea and Cake provided! If you think of it\, please RSVP to bolleskathie@yahoo.com. But come either way and feel free to bring a friend!!
X-ALT-DESC;FMTTYPE=text/html:<span style="font-size:14px\;"><span style="font-family: arial\; "><span style="font-size:16px\;"><strong>Interested in Looking Younger? </strong><br />\n<br />\nJoin Love the Way You Age! and Janie&#39\;s Cakes for a Quick Demonstration of a Breakthrough GENETIC Anti-Aging Technology That Actually Eliminates Lines and Wrinkles in Just 10 Minutes! </span><br />\n<br />\nGrapevine Chamber of Commerce Conference Room<br />\n200 Vine St. East<br />\n<br />\nThursday\, August 9th<br />\n12-1pm<br />\nBrown Bag Luncheon<br />\n<br />\nIced Tea and Cake provided! If you think of it\, please RSVP to <a href="mailto:bolleskathie@yahoo.com">bolleskathie@yahoo.com</a>. But come either way and feel free to bring a friend!!</span></span> 
LOCATION:Grapevine Chamber of Commerce Conference Room 200 Vine St. East
UID:e.770.162964
SEQUENCE:3
DTSTAMP:20260422T080216Z
URL:https://business.grapevinechamber.org/events/details/look-younger-with-love-the-way-you-age-08-09-2012-162964
END:VEVENT

END:VCALENDAR
