BEGIN:VCALENDAR
VERSION:2.0
PRODID:-//ChamberMaster//Event Calendar 2.0//EN
METHOD:PUBLISH
X-PUBLISHED-TTL:P3D
REFRESH-INTERVAL:P3D
CALSCALE:GREGORIAN
BEGIN:VEVENT
DTSTART:20130116T000000Z
DTEND:20130116T010000Z
X-MICROSOFT-CDO-ALLDAYEVENT:FALSE
SUMMARY:Living with Heart Failure Support Group
DESCRIPTION:Your invited to join the Baylor Regional Medical Center at Grapevine's Heart Failure Support Group. \n\n	 \n\n	When: 3rd Tuesday of each month\n\n	Where: Baylor Regional Medical Center at Grapevine\, 1650 West College Street\, Grapevine 76051 CCE Classroom\n\n	Time: 6:00 pm to 7:00 pm\n\n	\n\n	Refreshments will be served
X-ALT-DESC;FMTTYPE=text/html:<p>\n	Your invited to join the Baylor Regional Medical Center at Grapevine&#39\;s Heart Failure Support Group.&nbsp\;<br />\n	&nbsp\;</p>\n<p>\n	When: 3rd Tuesday of each month<br />\n	Where: Baylor Regional Medical Center at Grapevine\, 1650 West College Street\, Grapevine 76051 CCE Classroom<br />\n	Time: 6:00 pm to 7:00 pm<br />\n	<br />\n	Refreshments will be served</p>\n
LOCATION:Baylor Regional Medical Center at Grapevine
UID:e.770.163332
SEQUENCE:3
DTSTAMP:20260421T210618Z
URL:https://business.grapevinechamber.org/events/details/living-with-heart-failure-support-group-01-15-2013-163332
END:VEVENT

END:VCALENDAR
