BEGIN:VCALENDAR
VERSION:2.0
PRODID:-//ChamberMaster//Event Calendar 2.0//EN
METHOD:PUBLISH
X-PUBLISHED-TTL:P3D
REFRESH-INTERVAL:P3D
CALSCALE:GREGORIAN
BEGIN:VEVENT
DTSTART:20121109T003000Z
DTEND:20121109T033000Z
X-MICROSOFT-CDO-ALLDAYEVENT:FALSE
SUMMARY:"Living in Sunshine" Benefiting Grapvine High School\, Project Graduation 2013
DESCRIPTION:We will be holding a fundraiser for Grapevine High School.  The painting - "Living in Sunshine" is a great painting which allows for creative license.   The flower and the background can be changed to suit your decor or that special nook that you have been wanting to decorate.  Join us.  Paint in support of our seniors
X-ALT-DESC;FMTTYPE=text/html:<p>\n	<strong>We will be holding a fundraiser for Grapevine High School.&nbsp\; The painting - &quot\;Living in Sunshine&quot\; is a great painting which allows for&nbsp\;creative license.&nbsp\;&nbsp\; The flower and the background can be changed to suit your decor or that special nook that you have been wanting to decorate.&nbsp\; Join us.&nbsp\; Paint in&nbsp\;support of our seniors </strong></p>\n
LOCATION:441 E. Northwest Hwy Grapevine\, TX 75061
UID:e.770.163072
SEQUENCE:3
DTSTAMP:20260420T110146Z
URL:https://business.grapevinechamber.org/events/details/living-in-sunshine-benefiting-grapvine-high-school-project-graduation-2013-11-08-2012-163072
END:VEVENT

END:VCALENDAR
