BEGIN:VCALENDAR
VERSION:2.0
PRODID:-//ChamberMaster//Event Calendar 2.0//EN
METHOD:PUBLISH
X-PUBLISHED-TTL:P3D
REFRESH-INTERVAL:P3D
CALSCALE:GREGORIAN
BEGIN:VEVENT
DTSTART:20121102T230000Z
DTEND:20121103T020000Z
X-MICROSOFT-CDO-ALLDAYEVENT:FALSE
SUMMARY:Live Music @ Boi Na Braza
DESCRIPTION:Join Boi Na Braza Friday Nights for Live Music in the Lounge.\n\n\n\nRodolfo Furtado & Neander Lima\n\nBossa Nova to Samba\n\n\n\nEvery Friday from 6PM to 9PM\n\n\n\nHappy Hour \n\n1/2 off Appetizers\, Capirinhas\, Wells and Wines by the Glass
X-ALT-DESC;FMTTYPE=text/html:Join Boi Na Braza Friday Nights for Live Music in the Lounge.<br />\n<br />\nRodolfo Furtado &amp\; Neander Lima<br />\nBossa Nova to Samba<br />\n<br />\nEvery Friday from 6PM to 9PM<br />\n<br />\nHappy Hour&nbsp\;<br />\n1/2 off Appetizers\, Capirinhas\, Wells and Wines by the Glass
LOCATION:4025 William D. Tate Grapevine\, Texas 76051
UID:e.770.163019
SEQUENCE:3
DTSTAMP:20260420T110040Z
URL:https://business.grapevinechamber.org/events/details/live-music-boi-na-braza-11-02-2012-163019
END:VEVENT

END:VCALENDAR
