BEGIN:VCALENDAR
VERSION:2.0
PRODID:-//ChamberMaster//Event Calendar 2.0//EN
METHOD:PUBLISH
X-PUBLISHED-TTL:P3D
REFRESH-INTERVAL:P3D
CALSCALE:GREGORIAN
BEGIN:VEVENT
DTSTART:20260111T010000Z
DTEND:20260111T040000Z
X-MICROSOFT-CDO-ALLDAYEVENT:FALSE
SUMMARY:Live Music at the Bull - The RPM Band
DESCRIPTION:The RPM Band will be playing classic rock and pop starting at 7pm at The Bull\, Bohemian Bull Grapevine
X-ALT-DESC;FMTTYPE=text/html:The RPM Band will be playing classic rock and pop starting at 7pm at The Bull\, Bohemian Bull Grapevine
LOCATION:Bohemian Bull Grapevine 1112 W Northwest Highway Grapevine\, TX 76051 682-223-1384
UID:e.770.203664
SEQUENCE:3
DTSTAMP:20260422T175132Z
URL:https://business.grapevinechamber.org/events/details/live-music-at-the-bull-the-rpm-band-203664
END:VEVENT

END:VCALENDAR
