BEGIN:VCALENDAR
VERSION:2.0
PRODID:-//ChamberMaster//Event Calendar 2.0//EN
METHOD:PUBLISH
X-PUBLISHED-TTL:P3D
REFRESH-INTERVAL:P3D
CALSCALE:GREGORIAN
BEGIN:VEVENT
DTSTART:20260201T010000Z
DTEND:20260201T040000Z
X-MICROSOFT-CDO-ALLDAYEVENT:FALSE
SUMMARY:Live Music at The Bull - Jan and the Pulse
DESCRIPTION:Jan and the Pulse brings their blues rock classics to Bohemian Bull Grapevine for a repeat visit.  Previous visits had the place rockin'.  The fun starts at 7 on January 31\, 2026
X-ALT-DESC;FMTTYPE=text/html:Jan and the Pulse brings their blues rock classics to Bohemian Bull Grapevine for a repeat visit.&nbsp\; Previous visits had the place rockin&#39\;.&nbsp\; The fun starts at 7 on January 31\, 2026
LOCATION:Bohemian Bull Grapevine 1112 W Northwest Highway Grapevine\, TX 76051 682-223-1384
UID:e.770.203768
SEQUENCE:3
DTSTAMP:20260422T175057Z
URL:https://business.grapevinechamber.org/events/details/live-music-at-the-bull-jan-and-the-pulse-203768
END:VEVENT

END:VCALENDAR
