BEGIN:VCALENDAR
VERSION:2.0
PRODID:-//ChamberMaster//Event Calendar 2.0//EN
METHOD:PUBLISH
X-PUBLISHED-TTL:P3D
REFRESH-INTERVAL:P3D
CALSCALE:GREGORIAN
BEGIN:VEVENT
DTSTART:20240223T210000Z
DTEND:20240223T230000Z
X-MICROSOFT-CDO-ALLDAYEVENT:FALSE
SUMMARY:Let's Paw in Love!
DESCRIPTION:Woofie's of Grapevine will be at the Vine on North Park Apartments in Grapevine Friday\, February 23rd from 3-5pm! \n\n\n\nCome see us with your furry friends and taste samples of The Famer's Dog before their FREE teeth brushing! Don't forget to snag a QR code for 100% off your first box. \n\n\n\nOther services offered:\n\nFree Healthy Breath Bundle\n\nWash n Go (towel dry luxury bath) - $35\n\nMani Pedi (nail trim) - $30 \n\nCombo - $50
X-ALT-DESC;FMTTYPE=text/html:Woofie&#39\;s of Grapevine will be at the Vine on North Park Apartments in Grapevine Friday\, February 23rd from 3-5pm!&nbsp\;<br />\n<br />\nCome see us with your furry friends and taste samples of The Famer&#39\;s Dog before their FREE teeth brushing! Don&#39\;t forget to snag a QR code for 100% off your <em>first </em>box.&nbsp\;<br />\n<br />\nOther services offered:<br />\nFree Healthy Breath Bundle<br />\nWash n Go (towel dry luxury bath) - $35<br />\nMani Pedi (nail trim) - $30&nbsp\;<br />\nCombo - $50<br />\n&nbsp\;
LOCATION:Vine on North Park Apartments 601 N Park Blvd\, Grapevine\, TX 76051
UID:e.770.198348
SEQUENCE:3
DTSTAMP:20260424T130237Z
URL:https://business.grapevinechamber.org/events/details/let-s-paw-in-love-198348
END:VEVENT

END:VCALENDAR
