BEGIN:VCALENDAR
VERSION:2.0
PRODID:-//ChamberMaster//Event Calendar 2.0//EN
METHOD:PUBLISH
X-PUBLISHED-TTL:P3D
REFRESH-INTERVAL:P3D
CALSCALE:GREGORIAN
BEGIN:VEVENT
DTSTART:20240815T160000Z
DTEND:20240815T230000Z
X-MICROSOFT-CDO-ALLDAYEVENT:FALSE
SUMMARY:Birthday Celebration - 30% OFF EVERYTHING SALE!
DESCRIPTION:JULIA (the owner) IS TURNING 30! Join the birthday celebration and stop by the store on Thursday\, August 15th anytime from 11am-6pm to say HEY\, enjoy new product samples and 30% off everything! \n\n\n\nCan't make it but still want the savings? Order via phone at 817.240.3332 - ONE DAY ONLY!
X-ALT-DESC;FMTTYPE=text/html:<strong>JULIA (the owner) IS TURNING 30! </strong>Join the <u>birthday celebration</u> and stop by the store on <strong>Thursday\, August 15th</strong>&nbsp\;anytime from <strong>11am-6pm</strong> to say HEY\, enjoy <em>new product samples</em> and <strong>30% off&nbsp\;everything!&nbsp\;</strong><br />\n<br />\nCan&#39\;t make it but still want the savings? Order via phone at <strong>817.240.3332 - ONE DAY ONLY!</strong>
LOCATION:Your CBD Store Southlake 2354 E State Hwy 114 Southlake\, TX 76092
UID:e.770.198844
SEQUENCE:3
DTSTAMP:20260424T012515Z
URL:https://business.grapevinechamber.org/events/details/let-s-celebrate-30-off-everything-sale-198844
END:VEVENT

END:VCALENDAR
