BEGIN:VCALENDAR
VERSION:2.0
PRODID:-//ChamberMaster//Event Calendar 2.0//EN
METHOD:PUBLISH
X-PUBLISHED-TTL:P3D
REFRESH-INTERVAL:P3D
CALSCALE:GREGORIAN
BEGIN:VEVENT
DTSTART;VALUE=DATE:20121018
DTEND;VALUE=DATE:20121019
TRANSP:TRANSPARENT
X-MICROSOFT-CDO-ALLDAYEVENT:TRUE
SUMMARY:Leadership Grapevine
DESCRIPTION:Media Day
X-ALT-DESC;FMTTYPE=text/html:Media Day
LOCATION:
UID:e.770.162968
SEQUENCE:3
DTSTAMP:20260422T110143Z
URL:https://business.grapevinechamber.org/events/details/leadership-grapevine-10-18-2012-162968
END:VEVENT

END:VCALENDAR
