BEGIN:VCALENDAR
VERSION:2.0
PRODID:-//ChamberMaster//Event Calendar 2.0//EN
METHOD:PUBLISH
X-PUBLISHED-TTL:P3D
REFRESH-INTERVAL:P3D
CALSCALE:GREGORIAN
BEGIN:VEVENT
DTSTART;VALUE=DATE:20130418
DTEND;VALUE=DATE:20130419
TRANSP:TRANSPARENT
X-MICROSOFT-CDO-ALLDAYEVENT:TRUE
SUMMARY:Leadership Grapevine
DESCRIPTION:Tourism Day / Arts & Culture
X-ALT-DESC;FMTTYPE=text/html:Tourism Day / Arts &amp\; Culture
LOCATION:
UID:e.770.162974
SEQUENCE:3
DTSTAMP:20260421T161618Z
URL:https://business.grapevinechamber.org/events/details/leadership-grapevine-04-18-2013-162974
END:VEVENT

END:VCALENDAR
