BEGIN:VCALENDAR
VERSION:2.0
PRODID:-//ChamberMaster//Event Calendar 2.0//EN
METHOD:PUBLISH
X-PUBLISHED-TTL:P3D
REFRESH-INTERVAL:P3D
CALSCALE:GREGORIAN
BEGIN:VEVENT
DTSTART:20130125T143000Z
DTEND:20130125T153000Z
X-MICROSOFT-CDO-ALLDAYEVENT:FALSE
SUMMARY:Leadership Breakfast Series - Leadership Impact
DESCRIPTION:ONLINE REGISTRATIONS FOR THIS SESSION HAS CLOSED. IF YOU WOULD STILL LIKE TO ATTEND\, PLEASE ARRIVE AT COWBOYS GOLF CLUB BEFORE 8:15 A.M\, JANUARY 25\, TO REIGSTER AND PAY.\n\n	\n\n	Session:\n\n	\n\n	 Leadership Impact - How your leadership impacts you and others. Learn the core concepts of leadership\, complete a self  assessment and participate in open discussion.\n\n	\n\n	Overview:\n\n	\n\n	The Grapevine Chamber of Commerce is pleased to announce its 2013 Leadership Breakfast Series sponsored by Lead It 2 Win It . This series is open to all Chamber members and designed for individual employees\, managers or business owners who are interested in improving or developing their leadership skills overall.\n\n	\n\n	Each month the Chamber will offer a series of leadership sessions designed to shift your thinking\, and provide actionable ideas to enhance your skills. With today's competitive market place\, it is imperative to become a better leader\, and it's through clear\, thought-leadership that you and your business will grow and stand out! This 12-month program is designed to build your core leadership components\, like: \n\n	\n		Communications skills \n	\n		Diversity \n	\n		Vision & strategies \n	\n		And much more! \n\n\n	\n\n	Lead It 2 Win It  is a team of Carlos Merla of Merla Leadership Group and Lauren Midgley of Courage to Succeed Coaching\, and they will bring in speakers who are subject matter experts\, providing information and practical examples followed by open discussions.
X-ALT-DESC;FMTTYPE=text/html:<p>\n	<br />\n	<span style="font-size:14px\;"><span style="font-family: arial\;"><strong><span style="font-size:16px\;"><em>ONLINE REGISTRATIONS FOR THIS SESSION HAS CLOSED. IF YOU WOULD STILL LIKE TO ATTEND\, PLEASE ARRIVE AT COWBOYS GOLF CLUB BEFORE 8:15 A.M\, JANUARY 25\, TO REIGSTER AND PAY.</em><br />\n	<br />\n	<u>Session:</u></span></strong><br />\n	<br />\n	<em><strong> Leadership Impact </strong></em>- How your leadership impacts you and others. Learn the core concepts of leadership\, complete a self &ndash\;assessment and participate in open discussion.<br />\n	<br />\n	<span style="font-size:14px\;"><span style="font-family: arial\;"><strong><span style="font-size:16px\;"><u>Overview:</u></span></strong><br />\n	<br />\n	<span style="font-size:14px\;"><span style="font-family: arial\;">The Grapevine Chamber of Commerce is pleased to announce its 2013 Leadership Breakfast Series sponsored by <strong>Lead It 2 Win It&reg\;</strong>. This series is open to all Chamber members and designed for individual employees\, managers or business owners who are interested in improving or developing their leadership skills overall.<br />\n	<br />\n	Each month the Chamber will offer a series of leadership sessions designed to shift your thinking\, and provide actionable ideas to enhance your skills. With today&rsquo\;s competitive market place\, it is imperative to become a better leader\, and it&rsquo\;s through clear\, thought-leadership that you and your business will grow and stand out! This 12-month program is designed to build your core leadership components\, like: </span></span></span></span></span></span></p>\n<ul>\n	<li>\n		<span style="font-size:14px\;"><span style="font-family: arial\;">Communications skills </span></span></li>\n	<li>\n		<span style="font-size:14px\;"><span style="font-family: arial\;">Diversity </span></span></li>\n	<li>\n		<span style="font-size:14px\;"><span style="font-family: arial\;">Vision &amp\; strategies </span></span></li>\n	<li>\n		<span style="font-size:14px\;"><span style="font-family: arial\;">And much more! </span></span></li>\n</ul>\n<p>\n	<br />\n	<span style="font-size:14px\;"><span style="font-family: arial\;"><strong>Lead It 2 Win It&reg\;</strong> is a team of Carlos Merla of Merla Leadership Group and Lauren Midgley of Courage to Succeed Coaching\, and they will bring in speakers who are subject matter experts\, providing information and practical examples followed by open discussions.<br />\n	<br />\n	</span></span></p>\n
LOCATION:Cowboys Golf Club 1600 Fairway Dr. Grapevine\, TX 76051
UID:e.770.163318
SEQUENCE:3
DTSTAMP:20260421T210659Z
URL:https://business.grapevinechamber.org/events/details/leadership-breakfast-series-leadership-impact-01-25-2013-163318
END:VEVENT

END:VCALENDAR
