BEGIN:VCALENDAR
VERSION:2.0
PRODID:-//ChamberMaster//Event Calendar 2.0//EN
METHOD:PUBLISH
X-PUBLISHED-TTL:P3D
REFRESH-INTERVAL:P3D
CALSCALE:GREGORIAN
BEGIN:VEVENT
DTSTART:20250403T160000Z
DTEND:20250404T045500Z
X-MICROSOFT-CDO-ALLDAYEVENT:FALSE
SUMMARY:Lazy Dog Bar & Restaurant & Trinity High School Fundraiser
DESCRIPTION:Trinity High School has teamed up with Lazy Dog Bar & Restaurant for a fundraiser to bring proceeds to the local high school.\n\n \n\nJoin us on the fundraising dates and mention to your server that you are there for the Trinity High School and what you spend the Foundation will get 15% of the proceeds.\n\n \n\nHelp Trinity High School raise proceeds for their school.
X-ALT-DESC;FMTTYPE=text/html:Trinity High School has teamed up with Lazy Dog Bar &amp\; Restaurant for a fundraiser to bring proceeds to the local high school.<br />\n&nbsp\;<br />\nJoin us on the fundraising dates and mention to your server that you are there for the Trinity High School and what you spend the Foundation will get 15% of the proceeds.<br />\n&nbsp\;<br />\nHelp Trinity High School raise proceeds for their school.
LOCATION:Lazy Dog Bar & Restaurant 2521 State Hwy 121 Euless\, TX. 76039
UID:e.770.201163
SEQUENCE:3
DTSTAMP:20260426T033250Z
URL:https://business.grapevinechamber.org/events/details/lazy-dog-bar-restaurant-trinity-high-school-fundraiser-04-03-2025-201163
END:VEVENT

END:VCALENDAR
