BEGIN:VCALENDAR
VERSION:2.0
PRODID:-//ChamberMaster//Event Calendar 2.0//EN
METHOD:PUBLISH
X-PUBLISHED-TTL:P3D
REFRESH-INTERVAL:P3D
CALSCALE:GREGORIAN
BEGIN:VEVENT
DTSTART:20130421T010000Z
DTEND:20130421T030000Z
X-MICROSOFT-CDO-ALLDAYEVENT:FALSE
SUMMARY:Las Colinas Symphony with Stirling Trent\, violinist
DESCRIPTION:The LCSO will perform Beethoven's Leonora Overture No. 3\, Mozart's Overture to Don Giovanni and many more! This performance will feature violinist\, Stirling Trent performing Lalo's Symphonie Espagnole. The orchestra will be led by guest conductor Maestro Jes s Medina!
X-ALT-DESC;FMTTYPE=text/html:<p class="MsoNormal" style="margin: 0in 0in 0pt\; line-height: normal\;">\n	<font color="#000000" face="Calibri" size="3">The LCSO will perform Beethoven&rsquo\;s Leonora Overture No. 3\, Mozart&rsquo\;s Overture to Don Giovanni and many more! This performance will feature violinist\, Stirling Trent performing Lalo&rsquo\;s Symphonie Espagnole. The orchestra will be led by guest conductor Maestro Jes&uacute\;s Medina!</font></p>\n
LOCATION:Irving Arts Center\, 3333 N. MacArthur Blvd.\, Irving\, TX 75062
UID:e.770.163460
SEQUENCE:3
DTSTAMP:20260421T161826Z
URL:https://business.grapevinechamber.org/events/details/las-colinas-symphony-with-stirling-trent-violinist-04-20-2013-163460
END:VEVENT

END:VCALENDAR
