BEGIN:VCALENDAR
VERSION:2.0
PRODID:-//ChamberMaster//Event Calendar 2.0//EN
METHOD:PUBLISH
X-PUBLISHED-TTL:P3D
REFRESH-INTERVAL:P3D
CALSCALE:GREGORIAN
BEGIN:VEVENT
DTSTART:20130120T020000Z
DTEND:20130120T043000Z
X-MICROSOFT-CDO-ALLDAYEVENT:FALSE
SUMMARY:Las Colinas Symphony Orchestra with Daniel del Pino\, pianist
DESCRIPTION:The LCSO will ring in the New Year with good cheer! Join us as the orchestra performs such pieces as Ravel's Alborado del Gracioso and Rapsodie Espagnole. This performance will also feature pianist\, Daniel del Pino performing Falla's Nights in the Gardens of Spain!
X-ALT-DESC;FMTTYPE=text/html:<p class="MsoNormal" style="line-height: normal\; margin: 0in 0in 0pt">\n	<font color="#000000" size="3">The LCSO will ring in the New Year with good cheer! Join us as the orchestra performs such pieces as Ravel&rsquo\;s Alborado del Gracioso and Rapsodie Espagnole. This performance will also feature pianist\, Daniel del Pino performing Falla&rsquo\;s <i style="mso-bidi-font-style: normal">Nights in the Gardens of Spain</i>!</font></p>\n
LOCATION:Irving Arts Center\, 3333 N. MacArthur Blvd.\, Irving\, TX
UID:e.770.163324
SEQUENCE:3
DTSTAMP:20260421T210934Z
URL:https://business.grapevinechamber.org/events/details/las-colinas-symphony-orchestra-with-daniel-del-pino-pianist-01-19-2013-163324
END:VEVENT

END:VCALENDAR
