BEGIN:VCALENDAR
VERSION:2.0
PRODID:-//ChamberMaster//Event Calendar 2.0//EN
METHOD:PUBLISH
X-PUBLISHED-TTL:P3D
REFRESH-INTERVAL:P3D
CALSCALE:GREGORIAN
BEGIN:VEVENT
DTSTART:20130217T020000Z
DTEND:20130217T043000Z
X-MICROSOFT-CDO-ALLDAYEVENT:FALSE
SUMMARY:Las Colinas Symphony Orchestra with Curt Thompson\, violinist
DESCRIPTION:Romance is in the air! The LCSO presents a concert highlighted by the theme of love that invites you to celebrate the evening musically. Join us as the orchestra performs Wagner's Prelude to Parsifal and Strauss' Don Juan! This performance will feature violinist Curt Thompson performing Sarasate's Carmen Fantasy!
X-ALT-DESC;FMTTYPE=text/html:<p class="MsoNormal" style="line-height: normal\; margin: 0in 0in 0pt">\n	<font color="#000000" size="3">Romance is in the air! The LCSO presents a concert highlighted by the theme of love that invites you to celebrate the evening musically. Join us as the orchestra performs Wagner&rsquo\;s Prelude to <i style="mso-bidi-font-style: normal">Parsifal</i> and Strauss&rsquo\; Don Juan! This performance will feature violinist Curt Thompson performing Sarasate&rsquo\;s <i style="mso-bidi-font-style: normal">Carmen Fantasy</i>!</font></p>\n
LOCATION:Irving Arts Center\, 3333 N. MacArthur Blvd.\, Irving\, TX
UID:e.770.163358
SEQUENCE:3
DTSTAMP:20260421T194219Z
URL:https://business.grapevinechamber.org/events/details/las-colinas-symphony-orchestra-with-curt-thompson-violinist-02-16-2013-163358
END:VEVENT

END:VCALENDAR
